BEGIN:VCALENDAR
VERSION:2.0
PRODID:-//Sabre//Sabre VObject 4.5.8//EN
CALSCALE:GREGORIAN
LAST-MODIFIED:20220427T164257Z
BEGIN:VTIMEZONE
TZID:America/New_York
X-MICROSOFT-CDO-TZID:10
BEGIN:STANDARD
DTSTART:20211107T060000
TZOFFSETFROM:-0400
TZOFFSETTO:-0500
TZNAME:EST
END:STANDARD
BEGIN:STANDARD
DTSTART:20221106T060000
TZOFFSETFROM:-0400
TZOFFSETTO:-0500
TZNAME:EST
END:STANDARD
BEGIN:DAYLIGHT
DTSTART:20220313T070000
TZOFFSETFROM:-0500
TZOFFSETTO:-0400
TZNAME:EDT
END:DAYLIGHT
END:VTIMEZONE
BEGIN:VEVENT
UID:aa6c6749-dd50-4d68-828d-4ec13d022b32
DTSTAMP:20220427T164257Z
SUMMARY:APA Pronunciation TF
DTSTART;TZID=America/New_York:20220427T120000
DTEND;TZID=America/New_York:20220427T130000
DESCRIPTION:https://www.w3.org/events/meetings/aa6c6749-dd50-4d68-828d-4ec1
 3d022b32/20220427T120000/\n\n- [Previous meeting minutes](https://www.w3.o
 rg/2022/04/20-pronunciation-minutes.html)\n- [Teleconferences information]
 (https://www.w3.org/2017/08/telecon-info_pronunciation-wed)\n- [IRC Channe
 l: #pronunciation](http://irc.w3.org/?channels=pronunciation)\n- [Pronunci
 ation Explainer Document](https://www.w3.org/TR/pronunciation-explainer/)\
 n- [Pronunciation Gap Analysis & Use Case document page](https://www.w3.or
 g/TR/pronunciation-gap-analysis-and-use-cases/)\n- [Pronunciation User Sce
 narios document page](https://www.w3.org/TR/pronunciation-user-scenarios/)
 \n- [Our Home Page](https://www.w3.org/WAI/APA/task-forces/pronunciation/)
 \n- [Mailing list archives](https://lists.w3.org/Archives/Public/public-pr
 onunciation/)\n- [Wiki](https://github.com/w3c/pronunciation/wiki)\n- [Pro
 nunciation source repository issue tracker](https://github.com/w3c/pronunc
 iation/issues)\n- [Actions](https://www.w3.org/WAI/APA/task-forces/pronunc
 iation/track/actions/open)\n- [How to do Wide Review](https://www.w3.org/G
 uide/documentreview/)\n\nAgenda\n\nAgenda+ Agenda Review & Announcements\n
 Agenda+ Action Items\nAgenda+ Other Business\n\nMinutes of April 20 Meetin
 g - https://www.w3.org/2022/04/20-pronunciation-minutes.html
STATUS:CONFIRMED
CREATED:20220420T163620Z
LAST-MODIFIED:20220427T164257Z
SEQUENCE:4
ORGANIZER;CN=W3C Calendar;PARTSTAT=ACCEPTED;ROLE=NON-PARTICIPANT:mailto:nor
 eply@w3.org
ATTENDEE;CUTYPE=GROUP;ROLE=OPT-PARTICIPANT;RSVP=FALSE;CN=Spoken Presentatio
 n Task Force:mailto:public-pronunciation@w3.org
LOCATION:Zoom Meeting
RECURRENCE-ID;TZID=America/New_York:20220427T120000
END:VEVENT
END:VCALENDAR
