BEGIN:VCALENDAR
VERSION:2.0
PRODID:-//Sabre//Sabre VObject 4.5.8//EN
CALSCALE:GREGORIAN
LAST-MODIFIED:20260219T070203Z
BEGIN:VTIMEZONE
TZID:Asia/Tokyo
X-MICROSOFT-CDO-TZID:20
BEGIN:STANDARD
DTSTART:20241117T010000
TZOFFSETFROM:+0900
TZOFFSETTO:+0900
TZNAME:JST
END:STANDARD
END:VTIMEZONE
BEGIN:VEVENT
UID:aa294586-f779-466f-9066-7d73e4ea6c92
DTSTAMP:20260219T070203Z
SUMMARY:CG Specification Communication Enhancements
DTSTART;TZID=Asia/Tokyo:20251112T100000
DTEND;TZID=Asia/Tokyo:20251112T110000
DESCRIPTION:https://www.w3.org/events/meetings/aa294586-f779-466f-9066-7d73
 e4ea6c92/\n\nOur [project to revamp the Community Group program](https://g
 ithub.com/w3c/cg-program?tab=readme-ov-file#revamp-started-in-2024) includ
 es improvements to communications about CG specifications. In this breakou
 t session we will discuss our current thinking about the [CG specification
  lifecycle](https://github.com/w3c/cg-program/blob/main/proposals/spec-lif
 ecycle.md).\n\nAn important part of improved communication includes cleare
 r representation of status information and greater stylistics distinctions
  between CG specifications and Rec-track deliverables. We will share mocku
 ps and invite feedback. \n\nWe will also demo tooling for helping editors 
 gather data that will be used to convey status information in specificatio
 ns\, and discuss ideas for maintenance of that data.\n\n**Goal(s):**\nBuil
 d support for enhanced CG specification lifecycle and gather feedback on m
 ockups\n\nAgenda\n\n* Updates on CG spec lifecycle\n* Seek feedback on moc
 kups for CG specification changes\n* Anticipated approach for gathering da
 ta used to communicate specification circumstances\n* Planning for beta te
 st of new styles (implemented in bikeshed and respec).\n\nSee our [slides]
 (https://docs.google.com/presentation/d/1-96YXga4LLRDmWITdUnjjFtnRnftkS0Dk
 _yJKBeHBgA/edit?slide=id.p#slide=id.p)\n\n**Materials:**\n- [Session propo
 sal on GitHub](https://github.com/w3c/tpac2025-breakouts/issues/41)
STATUS:CONFIRMED
CREATED:20251028T073912Z
LAST-MODIFIED:20260219T070203Z
SEQUENCE:3
ORGANIZER;CN=W3C Calendar;PARTSTAT=ACCEPTED;ROLE=NON-PARTICIPANT:mailto:nor
 eply@w3.org
LOCATION:Floor 4 - 404
CATEGORIES:TPAC 2025,Breakout Sessions
END:VEVENT
END:VCALENDAR
