BEGIN:VCALENDAR
VERSION:2.0
PRODID:-//Sabre//Sabre VObject 4.5.8//EN
CALSCALE:GREGORIAN
LAST-MODIFIED:20260425T112451Z
BEGIN:VTIMEZONE
TZID:Etc/UTC
BEGIN:STANDARD
DTSTART:20250513T140000
TZOFFSETFROM:+0000
TZOFFSETTO:+0000
TZNAME:UTC
END:STANDARD
END:VTIMEZONE
BEGIN:VEVENT
UID:a9891b0a-ea30-435d-a23a-06d378ca58e6
DTSTAMP:20260425T112451Z
SUMMARY:WebView CG Meeting
DTSTART;TZID=Etc/UTC:20260508T140000
DTEND;TZID=Etc/UTC:20260508T150000
DESCRIPTION:https://www.w3.org/events/meetings/a9891b0a-ea30-435d-a23a-06d3
 78ca58e6/\n\nNews things for CanIWebView? What else to do next?\n\nAgenda:
  https://bit.ly/webview-cg-2604\n\nAgenda\n\n* Usage and Challenges\n* Web
 EngineHackfest\n* New WebViews on CanIWebview\n* Homepage Improvements Can
 IWebView -> PR
STATUS:CONFIRMED
CREATED:20260425T112450Z
LAST-MODIFIED:20260425T112451Z
SEQUENCE:0
ORGANIZER;CN=W3C Calendar;PARTSTAT=ACCEPTED;ROLE=NON-PARTICIPANT:mailto:nor
 eply@w3.org
ATTENDEE;CUTYPE=GROUP;ROLE=OPT-PARTICIPANT;RSVP=FALSE;CN=WebView Community 
 Group:mailto:public-webview@w3.org
END:VEVENT
END:VCALENDAR
