BEGIN:VCALENDAR
VERSION:2.0
PRODID:-//Sabre//Sabre VObject 4.5.8//EN
CALSCALE:GREGORIAN
LAST-MODIFIED:20241023T123818Z
BEGIN:VTIMEZONE
TZID:Europe/Paris
X-MICROSOFT-CDO-TZID:3
BEGIN:DAYLIGHT
DTSTART:20240331T010000
TZOFFSETFROM:+0100
TZOFFSETTO:+0200
TZNAME:CEST
END:DAYLIGHT
BEGIN:DAYLIGHT
DTSTART:20250330T010000
TZOFFSETFROM:+0100
TZOFFSETTO:+0200
TZNAME:CEST
END:DAYLIGHT
BEGIN:STANDARD
DTSTART:20241027T010000
TZOFFSETFROM:+0200
TZOFFSETTO:+0100
TZNAME:CET
END:STANDARD
END:VTIMEZONE
BEGIN:VEVENT
UID:a962f8bb-bb23-420e-abde-3bb761f67f6b
DTSTAMP:20241023T123818Z
SUMMARY:DX WG meeting with DDI Alliance
DTSTART;TZID=Europe/Paris:20241030T170000
DTEND;TZID=Europe/Paris:20241030T175500
DESCRIPTION:https://www.w3.org/events/meetings/a962f8bb-bb23-420e-abde-3bb7
 61f67f6b/\n\nSee [invitation email](https://lists.w3.org/Archives/Public/p
 ublic-dxwg-wg/2024Oct/0013.html):\n\n> There is an interest in the DDI com
 munity to push some of their work on \n> the W3C Recommendation track. Giv
 en the scope of this work\, the Dataset \n> Exchange Working Group seemed 
 to me as a good venue for that. \n> Furthermore\, in order to maximize par
 ticipation from both sides\, the \n> idea was raised to turn it into a joi
 nt working group between W3C and \n> the DDI Alliance -- also taking into 
 account that there is already a \n> significant intersection between both 
 communities.\n\nAgenda\n\nDiscussing\n* the adoption by the Dataset Exchan
 ge WG of a new REC-track documents based on DDI's Variable Descriptions sp
 ecification\n* turning the Dataset Exchange WG into a joint WG with the DD
 I Alliance
STATUS:CONFIRMED
CREATED:20241023T123818Z
LAST-MODIFIED:20241023T123818Z
SEQUENCE:0
ORGANIZER;CN=W3C Calendar;PARTSTAT=ACCEPTED;ROLE=NON-PARTICIPANT:mailto:nor
 eply@w3.org
ATTENDEE;CUTYPE=GROUP;ROLE=OPT-PARTICIPANT;RSVP=FALSE;CN=Dataset Exchange W
 orking Group:mailto:public-dxwg-wg@w3.org
END:VEVENT
END:VCALENDAR
