BEGIN:VCALENDAR
VERSION:2.0
PRODID:-//Sabre//Sabre VObject 4.5.8//EN
CALSCALE:GREGORIAN
LAST-MODIFIED:20220920T151747Z
BEGIN:VTIMEZONE
TZID:America/Vancouver
BEGIN:STANDARD
DTSTART:20211107T090000
TZOFFSETFROM:-0700
TZOFFSETTO:-0800
TZNAME:PST
END:STANDARD
BEGIN:STANDARD
DTSTART:20221106T090000
TZOFFSETFROM:-0700
TZOFFSETTO:-0800
TZNAME:PST
END:STANDARD
BEGIN:DAYLIGHT
DTSTART:20220313T100000
TZOFFSETFROM:-0800
TZOFFSETTO:-0700
TZNAME:PDT
END:DAYLIGHT
END:VTIMEZONE
BEGIN:VEVENT
UID:a91c3c5b-298a-46a8-8575-61cf15926a97
DTSTAMP:20220920T151747Z
SUMMARY:Verifiable Credentials Working Group including Joint meeting with A
 ccessible Platform Architectures Working Group
DTSTART;TZID=America/Vancouver:20220915T080000
DTEND;TZID=America/Vancouver:20220915T170000
DESCRIPTION:https://www.w3.org/events/meetings/a91c3c5b-298a-46a8-8575-61cf
 15926a97/\n\n\n\nAgenda\n\n### Date and Time:\nWednesday 15 Sept 2022\nTim
 e: 8:00 AM - 5:00 PM Vancouver (1 day)\nLocal date/time link: https://www.
 timeanddate.com/worldclock/fixedtime.html?msg=VCWG+Meeting&iso=20220915T08
 &p1=256&ah=8\n\n### SPECIAL NOTE\, if any:\nTPAC 2022 Day1\nslides: https:
 //docs.google.com/presentation/d/1hrqozY2EGZ8i8y40abyEuJmIb6hCiRS-37pdj6bh
 BLY/edit#slide=id.p1\n\n### Scribe list (as of Aug-29-2022): \nDmitriZ\, O
 rie\, JAndrieu\, MikeJones\, Oliver\, Justin\, ScottH\, Joachim\, Logan\, 
 Jeremie\, DavidW\, ShawnB\, RobinB\, ManuS\, Orie\, Kevin\, AndrewW\, Gabe
 C\, PhilA\, CharlesL\, Markus\, DavidC\, DaveL\, MartyR\, KerrieL\, Snorre
 \, Sebastian\, WillA\, GabeC\n\n### Meeting Chair:\nBrent Zundel\nKristina
  Yasuda\n\n### Topics (time)\nDay 1\n1-Chairs Introduction and logistics  
 (60 min)\n2-Real World Use Cases / Learnings from implementing v1.1 (30 mi
 n)\n3-Updating the use cases doc  (30 min)\n4-Break  (15 min)\n5-Serializa
 tions and the core data model  (120 min)\n6-Lunch  (60 min)\n7-APA WG Join
 t Meeting (use-cases\, etc.)  (60 min)\n8-Streamlining Data Integrity Cryp
 tosuites  (60 min)\n9-Break  (15 min)\n10-VC Extensions Registries  (60 mi
 n)\n11-Intro to ACDC  (30 min)\n\nDay 2\n1-Setting expectations for day 2 
 (Chairs) (30 min)\n2-Holder Binding (Oliver) (60 min)\n4-SD-JWT-VC (Kristi
 na/Sebastian) (30 min)\n5-Break (15 min)\n6-RCH WG time (Markus/Phil) (105
  min)\n7-Lunch (60 min)\n8-Delegated & Multi-party Credentials (Gabe) (60 
 min)\n9-Test Suites (Manu) (30 min)\n10-Break (15 min)\n11-Internationaliz
 ation/Multilingual (Shigeya) (30 min)\n12-JSON Schemas in the VC Data Mode
 l (Gabe) (30 min)\n13-Buffer (75 min)
STATUS:CONFIRMED
CREATED:20220610T055313Z
LAST-MODIFIED:20220920T151747Z
SEQUENCE:6
ORGANIZER;CN=W3C Calendar;PARTSTAT=ACCEPTED;ROLE=NON-PARTICIPANT:mailto:nor
 eply@w3.org
ATTENDEE;CUTYPE=GROUP;ROLE=OPT-PARTICIPANT;RSVP=FALSE;CN=Accessible Platfor
 m Architectures Working Group:mailto:public-apa@w3.org
ATTENDEE;CUTYPE=GROUP;ROLE=OPT-PARTICIPANT;RSVP=FALSE;CN=Verifiable Credent
 ials Working Group:mailto:public-vc-wg@w3.org
LOCATION:Grand D - North Tower Grand Ballroom Level
END:VEVENT
END:VCALENDAR
