BEGIN:VCALENDAR
VERSION:2.0
PRODID:-//Sabre//Sabre VObject 4.5.8//EN
CALSCALE:GREGORIAN
LAST-MODIFIED:20251125T205511Z
BEGIN:VTIMEZONE
TZID:Etc/UTC
BEGIN:STANDARD
DTSTART:20241209T160000
TZOFFSETFROM:+0000
TZOFFSETTO:+0000
TZNAME:UTC
END:STANDARD
END:VTIMEZONE
BEGIN:VEVENT
UID:a8879cc6-e888-4a34-8665-f5f558c51e66
DTSTAMP:20251125T205511Z
SUMMARY:Community Group Program CG Meeting
DTSTART;TZID=Etc/UTC:20251204T160000
DTEND;TZID=Etc/UTC:20251204T170000
DESCRIPTION:https://www.w3.org/events/meetings/a8879cc6-e888-4a34-8665-f5f5
 58c51e66/\n\n\n\nAgenda\n\nWe anticipate updates following TPAC discussion
  and will be looking for presentations from new CGs.
STATUS:CONFIRMED
CREATED:20251029T190125Z
LAST-MODIFIED:20251125T205511Z
SEQUENCE:0
ORGANIZER;CN=W3C Calendar;PARTSTAT=ACCEPTED;ROLE=NON-PARTICIPANT:mailto:nor
 eply@w3.org
ATTENDEE;CUTYPE=GROUP;ROLE=OPT-PARTICIPANT;RSVP=FALSE;CN=Community Group Pr
 ogram Community Group:mailto:public-council@w3.org
END:VEVENT
END:VCALENDAR
