BEGIN:VCALENDAR
VERSION:2.0
PRODID:-//Sabre//Sabre VObject 4.5.8//EN
CALSCALE:GREGORIAN
LAST-MODIFIED:20230608T121820Z
BEGIN:VTIMEZONE
TZID:Europe/Dublin
BEGIN:DAYLIGHT
DTSTART:20221030T010000
TZOFFSETFROM:+0100
TZOFFSETTO:+0000
TZNAME:GMT
END:DAYLIGHT
BEGIN:DAYLIGHT
DTSTART:20231029T010000
TZOFFSETFROM:+0100
TZOFFSETTO:+0000
TZNAME:GMT
END:DAYLIGHT
BEGIN:STANDARD
DTSTART:20230326T010000
TZOFFSETFROM:+0000
TZOFFSETTO:+0100
TZNAME:IST
END:STANDARD
END:VTIMEZONE
BEGIN:VEVENT
UID:a7b06b26-7ca1-4f2b-945b-beb1e269c836
DTSTAMP:20230608T121820Z
SUMMARY:DPVCG Meeting Call 08 JUN 2023
DTSTART;TZID=Europe/Dublin:20230608T140000
DTEND;TZID=Europe/Dublin:20230608T150000
DESCRIPTION:https://www.w3.org/events/meetings/a7b06b26-7ca1-4f2b-945b-beb1
 e269c836/\n\n\n\nAgenda: https://www.w3.org/events/meetings/a7b06b26-7ca1-
 4f2b-945b-beb1e269c836\n\nAgenda\n\n1. Continued discussion on data breach
  records. See issue https://github.com/w3c/dpv/issues/64 for summary and d
 iscussion. Proposal shared on mailing list - https://lists.w3.org/Archives
 /Public/public-dpvcg/2023May/0007.html\n2. AOB\n\nFor adding further items
  on the agenda\, please email the chair or the public mailing list.\n\nJoi
 ning Instructions: https://dcu-ie.zoom.us/j/92216714069?pwd=NUIrZWFmWDF0bE
 xhU3V2ak43L3lrUT09
STATUS:CONFIRMED
CREATED:20230608T121745Z
LAST-MODIFIED:20230608T121820Z
SEQUENCE:0
ORGANIZER;CN=W3C Calendar;PARTSTAT=ACCEPTED;ROLE=NON-PARTICIPANT:mailto:nor
 eply@w3.org
ATTENDEE;CUTYPE=GROUP;ROLE=OPT-PARTICIPANT;RSVP=FALSE;CN=Data Privacy Vocab
 ularies and Controls Community Group:mailto:public-dpvcg@w3.org
LOCATION:virtual
END:VEVENT
END:VCALENDAR
