BEGIN:VCALENDAR
VERSION:2.0
PRODID:-//Sabre//Sabre VObject 4.5.8//EN
CALSCALE:GREGORIAN
LAST-MODIFIED:20220712T202347Z
BEGIN:VTIMEZONE
TZID:America/Los_Angeles
X-MICROSOFT-CDO-TZID:13
BEGIN:STANDARD
DTSTART:20211107T090000
TZOFFSETFROM:-0700
TZOFFSETTO:-0800
TZNAME:PST
END:STANDARD
BEGIN:STANDARD
DTSTART:20221106T090000
TZOFFSETFROM:-0700
TZOFFSETTO:-0800
TZNAME:PST
END:STANDARD
BEGIN:DAYLIGHT
DTSTART:20220313T100000
TZOFFSETFROM:-0800
TZOFFSETTO:-0700
TZNAME:PDT
END:DAYLIGHT
END:VTIMEZONE
BEGIN:VEVENT
UID:a7496681-9330-4e4f-91e0-449efe8484fd
DTSTAMP:20220712T202347Z
SUMMARY:W3C Process CG Call
DTSTART;TZID=America/Los_Angeles:20220713T070000
DTEND;TZID=America/Los_Angeles:20220713T080000
DESCRIPTION:https://www.w3.org/events/meetings/a7496681-9330-4e4f-91e0-449e
 fe8484fd/20220713T070000/\n\n[Revising W3C Process](https://www.w3.org/com
 munity/w3process/): Examine the way W3C works. Propose improvements to the
  formal processes.\n\n* [Github w3c/w3process](https://github.com/w3c/w3pr
 ocess/blob/main/README.md): [issues](https://github.com/w3c/w3process/issu
 es)\, [pull requests](https://github.com/w3c/w3process/pulls)\, [monthly p
 ulse](https://github.com/w3c/w3process/pulse/monthly)\n* [W3C Process Draf
 t](https://www.w3.org/Consortium/Process/Drafts/)\n* [Mailing list](https:
 //lists.w3.org/Archives/Public/public-w3process/)\n\nUsual meeting time: S
 ECOND and FOURTH WEDNESDAY OF THE MONTH AT 7AM PACIFIC.\n\nAgenda\n\n1 ) A
 ssign scribe\, etc.\n\n[Previous minutes](https://www.w3.org/2022/06/22-w3
 process-minutes.html)\n\n2 ) Agenda bash.\n\n3 ) Closing issues\n This wee
 k proposal for closure:\n  [Cite Horizontal Review in Sec. 6.4.3](https://
 github.com/w3c/w3process/issues/587)\n  [Are certain (categories of) membe
 rs entitled to AB/TAG representation?](https://github.com/w3c/w3process/is
 sues/495)\n\n4 ) [Pull requests](https://github.com/w3c/w3process/pulls?q=
 is%3Apr+is%3Aopen+label%3AAgenda%2B)\n   Any update from Wendy on [#572](h
 ttps://github.com/w3c/w3process/pull/572)\, [#599](https://github.com/w3c/
 w3process/pull/599)\n  ? \n\n   We said last time that we wanted to land [
 Let the Team rather than the Director handle progression on TR](https://gi
 thub.com/w3c/w3process/pull/586) this week.\n \n5 ) Reminder: [Maturity Le
 vel is a weird term](https://github.com/w3c/w3process/issues/455)\n\n    "
 Maturity stages" is the chosen term. Please object here to use that term b
 efore July 20.\n\n6 ) [P2022 issues list](https://github.com/w3c/w3process
 /issues?q=is%3Aopen+is%3Aissue+label%3A%22P2022%22+).\n\n    We're waiting
  for the AB until TPAC for all Council related issues.\n    Florian\, did 
 you had an [issue on this](https://www.w3.org/2022/06/22-w3process-minutes
 .html#t09) in the draft Process?\n    \n\nThe usual closers:\n\n7 ) Next m
 eeting\n    The Governance TF is now using the Process CG timeslot. We nee
 d to reschedule our calls.\n    Would same time (14:00 UTC) on the Mondays
 \, Tuesdays\, or Thursdays work?\n      Monday next calls would be at July
  25\, August 8\, August 22\, Sep 12 (TPAC)\, Sep 26\n      Tuesday next ca
 lls would be at July 26\, August 9\, August 23\, Sep 13 (TPAC)\, Sep 27 (c
 onflict with PWET)\n      Thursday next calls would be at July 27\, August
  10\, August 24\, Sep 14 (TPAC)\, Sep 29\n      \n\n8 ) Any other business
 .
STATUS:CONFIRMED
CREATED:20220705T192227Z
LAST-MODIFIED:20220712T202347Z
SEQUENCE:7
ORGANIZER;CN=W3C Calendar;PARTSTAT=ACCEPTED;ROLE=NON-PARTICIPANT:mailto:nor
 eply@w3.org
ATTENDEE;CUTYPE=GROUP;ROLE=OPT-PARTICIPANT;RSVP=FALSE;CN=W3C Process Commun
 ity Group:mailto:public-w3process@w3.org
RECURRENCE-ID;TZID=America/Los_Angeles:20220713T070000
END:VEVENT
END:VCALENDAR
