BEGIN:VCALENDAR
VERSION:2.0
PRODID:-//Sabre//Sabre VObject 4.5.8//EN
CALSCALE:GREGORIAN
LAST-MODIFIED:20220713T183244Z
BEGIN:VTIMEZONE
TZID:America/Los_Angeles
X-MICROSOFT-CDO-TZID:13
BEGIN:STANDARD
DTSTART:20211107T090000
TZOFFSETFROM:-0700
TZOFFSETTO:-0800
TZNAME:PST
END:STANDARD
BEGIN:STANDARD
DTSTART:20221106T090000
TZOFFSETFROM:-0700
TZOFFSETTO:-0800
TZNAME:PST
END:STANDARD
BEGIN:DAYLIGHT
DTSTART:20220313T100000
TZOFFSETFROM:-0800
TZOFFSETTO:-0700
TZNAME:PDT
END:DAYLIGHT
END:VTIMEZONE
BEGIN:VEVENT
UID:a7496681-9330-4e4f-91e0-449efe8484fd
DTSTAMP:20220713T183244Z
SUMMARY:W3C Process CG Call
DTSTART;TZID=America/Los_Angeles:20220608T070000
DTEND;TZID=America/Los_Angeles:20220608T080000
DESCRIPTION:https://www.w3.org/events/meetings/a7496681-9330-4e4f-91e0-449e
 fe8484fd/20220608T070000/\n\n[Revising W3C Process](https://www.w3.org/com
 munity/w3process/): Examine the way W3C works. Propose improvements to the
  formal processes.\n\n* [Github w3c/w3process](https://github.com/w3c/w3pr
 ocess/blob/main/README.md): [issues](https://github.com/w3c/w3process/issu
 es)\, [pull requests](https://github.com/w3c/w3process/pulls)\, [monthly p
 ulse](https://github.com/w3c/w3process/pulse/monthly)\n* [W3C Process Draf
 t](https://www.w3.org/Consortium/Process/Drafts/)\n* [Mailing list](https:
 //lists.w3.org/Archives/Public/public-w3process/)\n\nUsual meeting time: S
 ECOND and FOURTH WEDNESDAY OF THE MONTH AT 7AM PACIFIC.\n\nAgenda\n\n1 ) A
 ssign scribe\, etc.\n\n2 ) Agenda bash.\n\n3 ) Goals and timeline for upco
 ming Process: Work for the next 9 months.\n\n4 ) [4 Pull requests](https:/
 /github.com/w3c/w3process/pulls?q=is%3Apr+is%3Aopen+label%3AAgenda%2B): Le
 t's approve pull requests within 2 weeks\n\n5 ) Director-Free Formal Objec
 tion handling: Status & next steps.\n\n6 ) Director-Free TAG appointment: 
 Status & next steps.\n\n7 ) Director-Free Chartering and pre-AC review: St
 atus & next steps.\n\n8 ) [P2022 to close](https://github.com/w3c/w3proces
 s/issues?q=is%3Aopen+is%3Aissue+label%3A%22P2022+Proposed+to+close%22): re
 starting the closures.\n\n9 ) [P2022 issues list](https://github.com/w3c/w
 3process/issues?q=is%3Aopen+is%3Aissue+label%3A%22P2022%22+).\n\nThe usual
  closers:\n\n10 ) Next meeting: June 22.\n\n11 ) Any other business.
STATUS:TENTATIVE
CREATED:20220517T180720Z
LAST-MODIFIED:20220713T183244Z
SEQUENCE:7
ORGANIZER;CN=W3C Calendar;PARTSTAT=ACCEPTED;ROLE=NON-PARTICIPANT:mailto:nor
 eply@w3.org
ATTENDEE;CUTYPE=GROUP;ROLE=OPT-PARTICIPANT;RSVP=FALSE;CN=W3C Process Commun
 ity Group:mailto:public-w3process@w3.org
RECURRENCE-ID;TZID=America/Los_Angeles:20220608T070000
END:VEVENT
END:VCALENDAR
