BEGIN:VCALENDAR
VERSION:2.0
PRODID:-//Sabre//Sabre VObject 4.5.8//EN
CALSCALE:GREGORIAN
LAST-MODIFIED:20250123T165303Z
BEGIN:VTIMEZONE
TZID:America/Los_Angeles
X-MICROSOFT-CDO-TZID:13
BEGIN:DAYLIGHT
DTSTART:20240310T100000
TZOFFSETFROM:-0800
TZOFFSETTO:-0700
TZNAME:PDT
END:DAYLIGHT
BEGIN:DAYLIGHT
DTSTART:20250309T100000
TZOFFSETFROM:-0800
TZOFFSETTO:-0700
TZNAME:PDT
END:DAYLIGHT
BEGIN:STANDARD
DTSTART:20241103T090000
TZOFFSETFROM:-0700
TZOFFSETTO:-0800
TZNAME:PST
END:STANDARD
END:VTIMEZONE
BEGIN:VEVENT
UID:a67b9dec-ec00-44d2-a610-4a3273b47f9f
DTSTAMP:20250123T165303Z
SUMMARY:Deep dive: content-visibility CSS property
DTSTART;TZID=America/Los_Angeles:20250123T090000
DTEND;TZID=America/Los_Angeles:20250123T100000
DESCRIPTION:https://www.w3.org/events/meetings/a67b9dec-ec00-44d2-a610-4a32
 73b47f9f/\n\nTopic: https://github.com/w3c/html-aam/issues/572\n\nAgenda: 
 https://github.com/w3c/html-aam/issues/572
STATUS:CONFIRMED
CREATED:20250109T192013Z
LAST-MODIFIED:20250123T165303Z
SEQUENCE:1
ORGANIZER;CN=W3C Calendar;PARTSTAT=ACCEPTED;ROLE=NON-PARTICIPANT:mailto:nor
 eply@w3.org
ATTENDEE;CUTYPE=GROUP;ROLE=OPT-PARTICIPANT;RSVP=FALSE;CN=Accessible Rich In
 ternet Applications Working Group:mailto:public-aria@w3.org
END:VEVENT
END:VCALENDAR
