BEGIN:VCALENDAR
VERSION:2.0
PRODID:-//Sabre//Sabre VObject 4.5.8//EN
CALSCALE:GREGORIAN
LAST-MODIFIED:20240126T141646Z
BEGIN:VTIMEZONE
TZID:Etc/UTC
BEGIN:STANDARD
DTSTART:20230121T160000
TZOFFSETFROM:+0000
TZOFFSETTO:+0000
TZNAME:UTC
END:STANDARD
END:VTIMEZONE
BEGIN:VEVENT
UID:a6341100-228b-4923-b73d-424c76881f60
DTSTAMP:20240126T141646Z
SUMMARY:WebRTC WG January 2024 call
DTSTART;TZID=Etc/UTC:20240116T160000
DTEND;TZID=Etc/UTC:20240116T180000
DESCRIPTION:https://www.w3.org/events/meetings/a6341100-228b-4923-b73d-424c
 76881f60/\n\n\n\nAgenda: https://www.w3.org/2011/04/webrtc/wiki/January_16
 _2024
STATUS:CONFIRMED
CREATED:20231012T064723Z
LAST-MODIFIED:20240126T141646Z
SEQUENCE:1
ORGANIZER;CN=W3C Calendar;PARTSTAT=ACCEPTED;ROLE=NON-PARTICIPANT:mailto:nor
 eply@w3.org
ATTENDEE;CUTYPE=GROUP;ROLE=OPT-PARTICIPANT;RSVP=FALSE;CN=Web Real-Time Comm
 unications Working Group:mailto:public-webrtc@w3.org
END:VEVENT
END:VCALENDAR
