BEGIN:VCALENDAR
VERSION:2.0
PRODID:-//Sabre//Sabre VObject 4.5.8//EN
CALSCALE:GREGORIAN
LAST-MODIFIED:20211116T154121Z
BEGIN:VTIMEZONE
TZID:Europe/Brussels
BEGIN:DAYLIGHT
DTSTART:20210328T010000
TZOFFSETFROM:+0100
TZOFFSETTO:+0200
TZNAME:CEST
END:DAYLIGHT
BEGIN:DAYLIGHT
DTSTART:20220327T010000
TZOFFSETFROM:+0100
TZOFFSETTO:+0200
TZNAME:CEST
END:DAYLIGHT
BEGIN:STANDARD
DTSTART:20211031T010000
TZOFFSETFROM:+0200
TZOFFSETTO:+0100
TZNAME:CET
END:STANDARD
END:VTIMEZONE
BEGIN:VEVENT
UID:a5d5eee6-96b3-4e94-a7a1-0e42ed0a1f6f
DTSTAMP:20211116T154121Z
SUMMARY:Open Athletics Virtual Meeting
DTSTART;TZID=Europe/Brussels:20211130T100000
DTEND;TZID=Europe/Brussels:20211130T110000
DESCRIPTION:https://www.w3.org/events/meetings/a5d5eee6-96b3-4e94-a7a1-0e42
 ed0a1f6f/20211130T100000/\n\nRecurring meeting every four weeks. Check the
  connection details and agenda at:\n\nhttps://github.com/w3c/opentrack-cg/
 wiki/Meeting-2021-11-02\n\nAgenda: https://github.com/w3c/opentrack-cg/wik
 i/Meetings\n\nAgenda\n\nSee the agenda at https://github.com/w3c/opentrack
 -cg/wiki/Meeting-2021-11-02
STATUS:CANCELLED
CREATED:20211116T154121Z
LAST-MODIFIED:20211116T154121Z
SEQUENCE:4
ORGANIZER;CN=W3C Calendar;PARTSTAT=ACCEPTED;ROLE=NON-PARTICIPANT:mailto:nor
 eply@w3.org
ATTENDEE;CUTYPE=GROUP;ROLE=OPT-PARTICIPANT;RSVP=FALSE;CN=OpenTrack Communit
 y Group:mailto:public-opentrack@w3.org
LOCATION:https://meet.jit.si/openathletics
RECURRENCE-ID;TZID=Europe/Brussels:20211130T100000
END:VEVENT
END:VCALENDAR
