BEGIN:VCALENDAR
VERSION:2.0
PRODID:-//Sabre//Sabre VObject 4.5.8//EN
CALSCALE:GREGORIAN
LAST-MODIFIED:20250916T171109Z
BEGIN:VTIMEZONE
TZID:America/New_York
X-MICROSOFT-CDO-TZID:10
BEGIN:DAYLIGHT
DTSTART:20240310T070000
TZOFFSETFROM:-0500
TZOFFSETTO:-0400
TZNAME:EDT
END:DAYLIGHT
BEGIN:DAYLIGHT
DTSTART:20250309T070000
TZOFFSETFROM:-0500
TZOFFSETTO:-0400
TZNAME:EDT
END:DAYLIGHT
BEGIN:DAYLIGHT
DTSTART:20260308T070000
TZOFFSETFROM:-0500
TZOFFSETTO:-0400
TZNAME:EDT
END:DAYLIGHT
BEGIN:STANDARD
DTSTART:20241103T060000
TZOFFSETFROM:-0400
TZOFFSETTO:-0500
TZNAME:EST
END:STANDARD
BEGIN:STANDARD
DTSTART:20251102T060000
TZOFFSETFROM:-0400
TZOFFSETTO:-0500
TZNAME:EST
END:STANDARD
END:VTIMEZONE
BEGIN:VEVENT
UID:a54ae3c9-89bc-4bb1-b9db-e9494d2100e1
DTSTAMP:20250916T171109Z
SUMMARY:ActivityPub Trust and Safety Task Force Meeting
DTSTART;TZID=America/New_York:20241112T110000
DTEND;TZID=America/New_York:20241112T120000
DESCRIPTION:https://www.w3.org/events/meetings/a54ae3c9-89bc-4bb1-b9db-e949
 4d2100e1/\n\nPlease join us for the first ActivityPub Trust and Safety Tas
 k Force meeting\, on Tuesday\, November 12\, 2024 at 11am EST / 5pm CET / 
 8am PST.\n\nAgenda: https://github.com/swicg/activitypub-trust-and-safety/
 issues/26\n\nJoining Instructions: https://meet.jit.si/ap-trust-and-safety
 -tf
STATUS:CONFIRMED
CREATED:20241111T155644Z
LAST-MODIFIED:20250916T171109Z
SEQUENCE:2
ORGANIZER;CN=W3C Calendar;PARTSTAT=ACCEPTED;ROLE=NON-PARTICIPANT:mailto:nor
 eply@w3.org
ATTENDEE;CUTYPE=GROUP;ROLE=OPT-PARTICIPANT;RSVP=FALSE;CN=Social Web Incubat
 or Community Group:mailto:public-swicg@w3.org
LOCATION:https://meet.jit.si/ap-trust-and-safety-tf
RRULE:FREQ=WEEKLY;UNTIL=20250916T150000Z;INTERVAL=2;BYDAY=TU;WKST=MO
END:VEVENT
BEGIN:VEVENT
UID:a54ae3c9-89bc-4bb1-b9db-e9494d2100e1
DTSTAMP:20241217T115643Z
SUMMARY:ActivityPub Trust and Safety Task Force Meeting
DTSTART;TZID=America/New_York:20241224T110000
DTEND;TZID=America/New_York:20241224T120000
DESCRIPTION:https://www.w3.org/events/meetings/a54ae3c9-89bc-4bb1-b9db-e949
 4d2100e1/20241224T110000/\n\nPlease join us for the first ActivityPub Trus
 t and Safety Task Force meeting\, on Tuesday\, November 12\, 2024 at 11am 
 EST / 5pm CET / 8am PST.\n\nAgenda: https://github.com/swicg/activitypub-t
 rust-and-safety/issues/26\n\nJoining Instructions: https://meet.jit.si/ap-
 trust-and-safety-tf
STATUS:CONFIRMED
CREATED:20241217T115643Z
LAST-MODIFIED:20241217T115643Z
SEQUENCE:1
ORGANIZER;CN=W3C Calendar;PARTSTAT=ACCEPTED;ROLE=NON-PARTICIPANT:mailto:nor
 eply@w3.org
ATTENDEE;CUTYPE=GROUP;ROLE=OPT-PARTICIPANT;RSVP=FALSE;CN=Social Web Incubat
 or Community Group:mailto:public-swicg@w3.org
ATTENDEE;CN=Kaustubha K:mailto:kaustubha@tattle.co.in
LOCATION:https://meet.jit.si/ap-trust-and-safety-tf
RECURRENCE-ID;TZID=America/New_York:20241224T110000
END:VEVENT
BEGIN:VEVENT
UID:a54ae3c9-89bc-4bb1-b9db-e9494d2100e1
DTSTAMP:20250330T133958Z
SUMMARY:ActivityPub Trust and Safety Task Force Meeting
DTSTART;TZID=America/New_York:20250401T110000
DTEND;TZID=America/New_York:20250401T120000
DESCRIPTION:https://www.w3.org/events/meetings/a54ae3c9-89bc-4bb1-b9db-e949
 4d2100e1/20250401T110000/\n\nPlease join us for the first ActivityPub Trus
 t and Safety Task Force meeting\, on Tuesday\, November 12\, 2024 at 11am 
 EST / 5pm CET / 8am PST.\n\nAgenda: https://github.com/swicg/activitypub-t
 rust-and-safety/issues/26\n\nJoining Instructions: https://meet.jit.si/ap-
 trust-and-safety-tf
STATUS:CANCELLED
CREATED:20250330T133956Z
LAST-MODIFIED:20250330T133958Z
SEQUENCE:2
ORGANIZER;CN=W3C Calendar;PARTSTAT=ACCEPTED;ROLE=NON-PARTICIPANT:mailto:nor
 eply@w3.org
ATTENDEE;CUTYPE=GROUP;ROLE=OPT-PARTICIPANT;RSVP=FALSE;CN=Social Web Incubat
 or Community Group:mailto:public-swicg@w3.org
LOCATION:https://meet.jit.si/ap-trust-and-safety-tf
RECURRENCE-ID;TZID=America/New_York:20250401T110000
END:VEVENT
BEGIN:VEVENT
UID:a54ae3c9-89bc-4bb1-b9db-e9494d2100e1
DTSTAMP:20250413T092439Z
SUMMARY:ActivityPub Trust and Safety Task Force Meeting
DTSTART;TZID=America/New_York:20250415T110000
DTEND;TZID=America/New_York:20250415T120000
DESCRIPTION:https://www.w3.org/events/meetings/a54ae3c9-89bc-4bb1-b9db-e949
 4d2100e1/20250415T110000/\n\nPlease join us for the first ActivityPub Trus
 t and Safety Task Force meeting\, on Tuesday\, November 12\, 2024 at 11am 
 EST / 5pm CET / 8am PST.\n\nAgenda: https://github.com/swicg/activitypub-t
 rust-and-safety/issues/26\n\nJoining Instructions: https://meet.jit.si/ap-
 trust-and-safety-tf
STATUS:CONFIRMED
CREATED:20250413T092439Z
LAST-MODIFIED:20250413T092439Z
SEQUENCE:1
ORGANIZER;CN=W3C Calendar;PARTSTAT=ACCEPTED;ROLE=NON-PARTICIPANT:mailto:nor
 eply@w3.org
ATTENDEE;CUTYPE=GROUP;ROLE=OPT-PARTICIPANT;RSVP=FALSE;CN=Social Web Incubat
 or Community Group:mailto:public-swicg@w3.org
ATTENDEE;CN=Echo Shine:mailto:echo@joinmastodon.org
LOCATION:https://meet.jit.si/ap-trust-and-safety-tf
RECURRENCE-ID;TZID=America/New_York:20250415T110000
END:VEVENT
BEGIN:VEVENT
UID:a54ae3c9-89bc-4bb1-b9db-e9494d2100e1
DTSTAMP:20250606T124920Z
SUMMARY:ActivityPub Trust and Safety Task Force Meeting
DTSTART;TZID=America/New_York:20250610T110000
DTEND;TZID=America/New_York:20250610T120000
DESCRIPTION:https://www.w3.org/events/meetings/a54ae3c9-89bc-4bb1-b9db-e949
 4d2100e1/20250610T110000/\n\nPlease join us for the first ActivityPub Trus
 t and Safety Task Force meeting\, on Tuesday\, November 12\, 2024 at 11am 
 EST / 5pm CET / 8am PST.\n\nAgenda: https://github.com/swicg/activitypub-t
 rust-and-safety/issues/26\n\nJoining Instructions: https://meet.jit.si/ap-
 trust-and-safety-tf
STATUS:CONFIRMED
CREATED:20250606T124920Z
LAST-MODIFIED:20250606T124920Z
SEQUENCE:1
ORGANIZER;CN=W3C Calendar;PARTSTAT=ACCEPTED;ROLE=NON-PARTICIPANT:mailto:nor
 eply@w3.org
ATTENDEE;CUTYPE=GROUP;ROLE=OPT-PARTICIPANT;RSVP=FALSE;CN=Social Web Incubat
 or Community Group:mailto:public-swicg@w3.org
ATTENDEE;CN=Nik Clayton:mailto:nik@ngo.org.uk
ATTENDEE;CN=Anthony Zone:mailto:ozoned@ozoned.net
LOCATION:https://meet.jit.si/ap-trust-and-safety-tf
RECURRENCE-ID;TZID=America/New_York:20250610T110000
END:VEVENT
END:VCALENDAR
