BEGIN:VCALENDAR
VERSION:2.0
PRODID:-//Sabre//Sabre VObject 4.5.8//EN
CALSCALE:GREGORIAN
LAST-MODIFIED:20251107T181634Z
BEGIN:VTIMEZONE
TZID:Asia/Tokyo
X-MICROSOFT-CDO-TZID:20
BEGIN:STANDARD
DTSTART:20241116T004500
TZOFFSETFROM:+0900
TZOFFSETTO:+0900
TZNAME:JST
END:STANDARD
END:VTIMEZONE
BEGIN:VEVENT
UID:a4b0e300-9879-4438-aada-e25608803f21
DTSTAMP:20251107T181634Z
SUMMARY:Accessible Rich Internet Applications Working Group
DTSTART;TZID=Asia/Tokyo:20251111T094500
DTEND;TZID=Asia/Tokyo:20251111T180000
DESCRIPTION:https://www.w3.org/events/meetings/a4b0e300-9879-4438-aada-e256
 08803f21/\n\n\n\nAgenda: https://github.com/w3c/aria/wiki/TPAC-2025-Kobe\,
 -Japan-Agenda#tuesday-nov-11-2025
STATUS:CONFIRMED
CREATED:20251106T161017Z
LAST-MODIFIED:20251107T181634Z
SEQUENCE:0
ORGANIZER;CN=W3C Calendar;PARTSTAT=ACCEPTED;ROLE=NON-PARTICIPANT:mailto:nor
 eply@w3.org
ATTENDEE;CUTYPE=GROUP;ROLE=OPT-PARTICIPANT;RSVP=FALSE;CN=Accessible Rich In
 ternet Applications Working Group:mailto:public-aria@w3.org
LOCATION:Floor 5 - 504
CATEGORIES:TPAC 2025,Group Meetings
END:VEVENT
END:VCALENDAR
