BEGIN:VCALENDAR
VERSION:2.0
PRODID:-//Sabre//Sabre VObject 4.5.8//EN
CALSCALE:GREGORIAN
LAST-MODIFIED:20210421T042204Z
BEGIN:VTIMEZONE
TZID:America/Los_Angeles
X-MICROSOFT-CDO-TZID:13
BEGIN:STANDARD
DTSTART:20201101T090000
TZOFFSETFROM:-0700
TZOFFSETTO:-0800
TZNAME:PST
END:STANDARD
BEGIN:STANDARD
DTSTART:20211107T090000
TZOFFSETFROM:-0700
TZOFFSETTO:-0800
TZNAME:PST
END:STANDARD
BEGIN:DAYLIGHT
DTSTART:20210314T100000
TZOFFSETFROM:-0800
TZOFFSETTO:-0700
TZNAME:PDT
END:DAYLIGHT
END:VTIMEZONE
BEGIN:VEVENT
UID:a48edab2-5c65-464f-832b-f74ca1172ee0
DTSTAMP:20210421T042204Z
SUMMARY:ARIA Deep Dive - Data Visualization
DTSTART;TZID=America/Los_Angeles:20210422T090000
DTEND;TZID=America/Los_Angeles:20210422T095000
DESCRIPTION:https://www.w3.org/events/meetings/a48edab2-5c65-464f-832b-f74c
 a1172ee0/\n\nTry to scope future work in the ARIA spec on Data Visualizati
 on\n\nAgenda\n\nDiscussion around https://github.com/w3c/aria/issues/991
STATUS:CONFIRMED
CREATED:20210421T041755Z
LAST-MODIFIED:20210421T042204Z
SEQUENCE:2
ORGANIZER;CN=W3C Calendar;PARTSTAT=ACCEPTED;ROLE=NON-PARTICIPANT:mailto:nor
 eply@w3.org
ATTENDEE;CUTYPE=GROUP;ROLE=OPT-PARTICIPANT;RSVP=FALSE;CN=Accessible Rich In
 ternet Applications Working Group:mailto:public-aria@w3.org
END:VEVENT
END:VCALENDAR
