BEGIN:VCALENDAR
VERSION:2.0
PRODID:-//Sabre//Sabre VObject 4.5.8//EN
CALSCALE:GREGORIAN
LAST-MODIFIED:20220718T163948Z
BEGIN:VTIMEZONE
TZID:Etc/UTC
BEGIN:STANDARD
DTSTART:20210731T140000
TZOFFSETFROM:+0000
TZOFFSETTO:+0000
TZNAME:UTC
END:STANDARD
END:VTIMEZONE
BEGIN:VEVENT
UID:a329378b-e308-4930-8c45-c33691570d96
DTSTAMP:20220718T163948Z
SUMMARY:WebView Community Group
DTSTART;TZID=Etc/UTC:20220726T140000
DTEND;TZID=Etc/UTC:20220726T150000
DESCRIPTION:https://www.w3.org/events/meetings/a329378b-e308-4930-8c45-c336
 91570d96/\n\nSixth teleconference of the WebView Community Group\, which a
 ims to identify\, understand and reduce the issues arising from the use of
  WebViews to render Web technology-based content outside of a Web browser 
 (Native Apps\, MiniApps\, etc).\n\nThe meeting will primarily focus on dis
 cussing the use cases submitted by the community.\n\nAgenda: https://githu
 b.com/WebView-CG/usage-and-challenges/blob/main/meetings/6th-meeting-agend
 a-220727.md\n\nAgenda\n\n# Sixth meeting agenda (2022-07-27)\n\n * Review 
 and discuss use cases\, https://github.com/WebView-CG/usage-and-challenges
 /issues?q=is%3Aissue+is%3Aopen+label%3AAgenda%2B\n * Review other issues\,
  https://github.com/WebView-CG/usage-and-challenges/issues
STATUS:CONFIRMED
CREATED:20220711T132408Z
LAST-MODIFIED:20220718T163948Z
SEQUENCE:2
ORGANIZER;CN=W3C Calendar;PARTSTAT=ACCEPTED;ROLE=NON-PARTICIPANT:mailto:nor
 eply@w3.org
ATTENDEE;CUTYPE=GROUP;ROLE=OPT-PARTICIPANT;RSVP=FALSE;CN=WebView Community 
 Group:mailto:public-webview@w3.org
END:VEVENT
END:VCALENDAR
