BEGIN:VCALENDAR
VERSION:2.0
PRODID:-//Sabre//Sabre VObject 4.5.8//EN
CALSCALE:GREGORIAN
LAST-MODIFIED:20221014T044558Z
BEGIN:VTIMEZONE
TZID:Etc/UTC
BEGIN:STANDARD
DTSTART:20211018T120000
TZOFFSETFROM:+0000
TZOFFSETTO:+0000
TZNAME:UTC
END:STANDARD
END:VTIMEZONE
BEGIN:VEVENT
UID:a2f713a2-c85b-4705-8ab5-567d5dfe1f1d
DTSTAMP:20221014T044558Z
SUMMARY:MiniApps CG Call
DTSTART;TZID=Etc/UTC:20221013T120000
DTEND;TZID=Etc/UTC:20221013T130000
DESCRIPTION:https://www.w3.org/events/meetings/a2f713a2-c85b-4705-8ab5-567d
 5dfe1f1d/\n\n
STATUS:CONFIRMED
CREATED:20221010T003536Z
LAST-MODIFIED:20221014T044558Z
SEQUENCE:1
ORGANIZER;CN=W3C Calendar;PARTSTAT=ACCEPTED;ROLE=NON-PARTICIPANT:mailto:nor
 eply@w3.org
ATTENDEE;CUTYPE=GROUP;ROLE=OPT-PARTICIPANT;RSVP=FALSE;CN=MiniApps Ecosystem
  Community Group:mailto:public-miniapps@w3.org
END:VEVENT
END:VCALENDAR
