BEGIN:VCALENDAR
VERSION:2.0
PRODID:-//Sabre//Sabre VObject 4.5.8//EN
CALSCALE:GREGORIAN
LAST-MODIFIED:20220901T010002Z
BEGIN:VTIMEZONE
TZID:America/Los_Angeles
X-MICROSOFT-CDO-TZID:13
BEGIN:STANDARD
DTSTART:20211107T090000
TZOFFSETFROM:-0700
TZOFFSETTO:-0800
TZNAME:PST
END:STANDARD
BEGIN:STANDARD
DTSTART:20221106T090000
TZOFFSETFROM:-0700
TZOFFSETTO:-0800
TZNAME:PST
END:STANDARD
BEGIN:DAYLIGHT
DTSTART:20220313T100000
TZOFFSETFROM:-0800
TZOFFSETTO:-0700
TZNAME:PDT
END:DAYLIGHT
END:VTIMEZONE
BEGIN:VEVENT
UID:a23538ef-2478-4c3c-bd86-d9f93e293e63
DTSTAMP:20220901T010002Z
SUMMARY:ARIA deep dive: popups popups popups
DTSTART;TZID=America/Los_Angeles:20220901T090000
DTEND;TZID=America/Los_Angeles:20220901T100000
DESCRIPTION:https://www.w3.org/events/meetings/a23538ef-2478-4c3c-bd86-d9f9
 3e293e63/\n\nPlease look at the discussion and add comments before the mee
 ting\n\nAgenda: https://github.com/w3c/aria/discussions/1781
STATUS:CONFIRMED
CREATED:20220829T225026Z
LAST-MODIFIED:20220901T010002Z
SEQUENCE:1
ORGANIZER;CN=W3C Calendar;PARTSTAT=ACCEPTED;ROLE=NON-PARTICIPANT:mailto:nor
 eply@w3.org
ATTENDEE;CUTYPE=GROUP;ROLE=OPT-PARTICIPANT;RSVP=FALSE;CN=Accessible Rich In
 ternet Applications Working Group:mailto:public-aria@w3.org
END:VEVENT
END:VCALENDAR
