BEGIN:VCALENDAR
VERSION:2.0
PRODID:-//Sabre//Sabre VObject 4.5.8//EN
CALSCALE:GREGORIAN
LAST-MODIFIED:20230907T150728Z
BEGIN:VTIMEZONE
TZID:America/New_York
X-MICROSOFT-CDO-TZID:10
BEGIN:STANDARD
DTSTART:20221106T060000
TZOFFSETFROM:-0400
TZOFFSETTO:-0500
TZNAME:EST
END:STANDARD
BEGIN:STANDARD
DTSTART:20231105T060000
TZOFFSETFROM:-0400
TZOFFSETTO:-0500
TZNAME:EST
END:STANDARD
BEGIN:DAYLIGHT
DTSTART:20230312T070000
TZOFFSETFROM:-0500
TZOFFSETTO:-0400
TZNAME:EDT
END:DAYLIGHT
END:VTIMEZONE
BEGIN:VEVENT
UID:a1b00c5c-1500-4321-9a0d-3888647e09ce
DTSTAMP:20230907T150728Z
SUMMARY:WoT Scripting API
DTSTART;TZID=America/New_York:20230911T070000
DTEND;TZID=America/New_York:20230911T080000
DESCRIPTION:https://www.w3.org/events/meetings/a1b00c5c-1500-4321-9a0d-3888
 647e09ce/20230911T070000/\n\nCancelled due to TPAC\nThe [WoT Scripting API
  task force](https://www.w3.org/WoT/IG/wiki/WG_WoT_Scripting_API_WebConf) 
 is responsible for specifying an application programming interface (API) r
 epresenting the WoT Interface that allows scripts to discover\, invoke int
 eractions with Things\, and expose interactions for locally defined Things
 .
STATUS:CANCELLED
CREATED:20230906T204846Z
LAST-MODIFIED:20230907T150728Z
SEQUENCE:4
ORGANIZER;CN=W3C Calendar;PARTSTAT=ACCEPTED;ROLE=NON-PARTICIPANT:mailto:nor
 eply@w3.org
ATTENDEE;CUTYPE=GROUP;ROLE=OPT-PARTICIPANT;RSVP=FALSE;CN=Web of Things Inte
 rest Group:mailto:public-wot-ig@w3.org
ATTENDEE;CUTYPE=GROUP;ROLE=OPT-PARTICIPANT;RSVP=FALSE;CN=Web of Things Work
 ing Group:mailto:public-wot-wg@w3.org
LOCATION:Zoom
RECURRENCE-ID;TZID=America/New_York:20230911T070000
END:VEVENT
END:VCALENDAR
