BEGIN:VCALENDAR
VERSION:2.0
PRODID:-//Sabre//Sabre VObject 4.5.8//EN
CALSCALE:GREGORIAN
LAST-MODIFIED:20220913T212457Z
BEGIN:VTIMEZONE
TZID:America/Vancouver
BEGIN:STANDARD
DTSTART:20211107T090000
TZOFFSETFROM:-0700
TZOFFSETTO:-0800
TZNAME:PST
END:STANDARD
BEGIN:STANDARD
DTSTART:20221106T090000
TZOFFSETFROM:-0700
TZOFFSETTO:-0800
TZNAME:PST
END:STANDARD
BEGIN:DAYLIGHT
DTSTART:20220313T100000
TZOFFSETFROM:-0800
TZOFFSETTO:-0700
TZNAME:PDT
END:DAYLIGHT
END:VTIMEZONE
BEGIN:VEVENT
UID:a0de5c4b-855f-4e12-b5ea-af56343f3fe7
DTSTAMP:20220913T212457Z
SUMMARY:Accessible Platform Architectures Working Group including Joint mee
 ting with Accessible Rich Internet Applications Working Group and WHAT Wor
 king Group
DTSTART;TZID=America/Vancouver:20220913T090000
DTEND;TZID=America/Vancouver:20220913T170000
DESCRIPTION:https://www.w3.org/events/meetings/a0de5c4b-855f-4e12-b5ea-af56
 343f3fe7/\n\n\n\nAgenda: https://www.w3.org/WAI/APA/wiki/Meetings/TPAC_202
 2\n\nAgenda\n\nThis calendar entry covers specific timetabled discussions.
  Most of these are being held as part of this meeting\, in APA space. Some
  are being held in other WGs' spaces\, and are also listed below for compl
 eteness\, but please note they're in a separate room. Here are links to th
 e agenda in our wiki page\, which provides the times in your local time zo
 ne. Times listed here are Vancouver time.\n\n**Meetings in APA space:**\n*
  1100-1200: [APA & TAG: Unblocking the Adapt CR](https://www.w3.org/WAI/AP
 A/wiki/Meetings/TPAC_2022#Unblocking_the_Adapt_CR)\n* 1330-1430: [APA & AR
 IA Joint Meeting: Spoken Presentation](https://www.w3.org/WAI/APA/wiki/Mee
 tings/TPAC_2022#ARIA_.26_APA_Joint_Meeting)\n* 1500-1600: [Coordinating co
 mment guidance and WG participation responsibility](https://www.w3.org/WAI
 /APA/wiki/Meetings/TPAC_2022#Coordinating_comment_guidance_and_WG_particip
 ation_responsibility_.28APA_Hosted_Discussion.29)\n* 1600-1700 [APA & WHAT
 -WG Joint Meeting](https://www.w3.org/WAI/APA/wiki/Meetings/TPAC_2022#APA_
 .26_WHAT-WG_Open_Issues_Joint_Meeting)\n\n**Break times:**\n* 1030-1100\n*
  1200-1330 (lunch)\n* 1430-1500\n\n**Meetings in other WGs' spaces:**\n* 0
 800-0900: [APA: Adapt & COGA Joint TFs Meeting (APA wiki entry)](https://w
 ww.w3.org/WAI/APA/wiki/Meetings/TPAC_2022#APA:_Adapt_.26_COGA_Joint_TFs_Me
 eting) in COGA space ([COGA TPAC calendar entry for their session that con
 tains the COGA+Adapt joint TF meeting](https://www.w3.org/events/meetings/
 3653c271-9f41-4402-a969-81132182a3ff))\n* 0930-1030: [APA & Web Performanc
 e Joint Meeting: Reporting API (our agenda)](https://www.w3.org/WAI/APA/wi
 ki/Meetings/TPAC_2022#APA_.26_Web_Performance_Joint_Meeting)\; [Web Perfor
 mance WG calendar entry for their session that contains our joint meeting]
 (https://www.w3.org/events/meetings/e5508a6c-fbe8-4aee-965e-22432e9d3290/2
 0220913T090000)
STATUS:CONFIRMED
CREATED:20220610T051642Z
LAST-MODIFIED:20220913T212457Z
SEQUENCE:5
ORGANIZER;CN=W3C Calendar;PARTSTAT=ACCEPTED;ROLE=NON-PARTICIPANT:mailto:nor
 eply@w3.org
ATTENDEE;CUTYPE=GROUP;ROLE=OPT-PARTICIPANT;RSVP=FALSE;CN=Accessible Platfor
 m Architectures Working Group:mailto:public-apa@w3.org
ATTENDEE;CUTYPE=GROUP;ROLE=OPT-PARTICIPANT;RSVP=FALSE;CN=Accessible Rich In
 ternet Applications Working Group:mailto:public-aria@w3.org
LOCATION:Junior B - North Tower 3rd floor
CATEGORIES:TPAC 2022,Group Meetings
END:VEVENT
END:VCALENDAR
