BEGIN:VCALENDAR
VERSION:2.0
PRODID:-//Sabre//Sabre VObject 4.5.8//EN
CALSCALE:GREGORIAN
LAST-MODIFIED:20251114T032323Z
BEGIN:VTIMEZONE
TZID:Asia/Tokyo
X-MICROSOFT-CDO-TZID:20
BEGIN:STANDARD
DTSTART:20241119T073000
TZOFFSETFROM:+0900
TZOFFSETTO:+0900
TZNAME:JST
END:STANDARD
END:VTIMEZONE
BEGIN:VEVENT
UID:a078850c-9705-4698-b309-d71c0133b5f4
DTSTAMP:20251114T032323Z
SUMMARY:Web of Things Community Group
DTSTART;TZID=Asia/Tokyo:20251114T163000
DTEND;TZID=Asia/Tokyo:20251114T180000
DESCRIPTION:https://www.w3.org/events/meetings/a078850c-9705-4698-b309-d71c
 0133b5f4/\n\nOrganised as a joint session with the WoT WG/IG\, we will be 
 using their room\, i.e. Room 302.\n\nThe idea is to share updates\, establ
 ish a better working mode between the two groups.\n\nAgenda\n\n- Updates f
 rom WoT CG\n  - Meetups\n  - Tutorial\n- What works well\, what does not\n
 - Plugfest Organization\n- Liaison
STATUS:CONFIRMED
CREATED:20250716T142506Z
LAST-MODIFIED:20251114T032323Z
SEQUENCE:8
ORGANIZER;CN=W3C Calendar;PARTSTAT=ACCEPTED;ROLE=NON-PARTICIPANT:mailto:nor
 eply@w3.org
ATTENDEE;CUTYPE=GROUP;ROLE=OPT-PARTICIPANT;RSVP=FALSE;CN=Web of Things Comm
 unity Group:mailto:public-web-of-things@w3.org
LOCATION:Floor 3 - 304
CATEGORIES:TPAC 2025,Group Meetings
END:VEVENT
END:VCALENDAR
