BEGIN:VCALENDAR
VERSION:2.0
PRODID:-//Sabre//Sabre VObject 4.5.8//EN
CALSCALE:GREGORIAN
LAST-MODIFIED:20251022T083838Z
BEGIN:VTIMEZONE
TZID:Etc/UTC
BEGIN:STANDARD
DTSTART:20241026T150000
TZOFFSETFROM:+0000
TZOFFSETTO:+0000
TZNAME:UTC
END:STANDARD
END:VTIMEZONE
BEGIN:VEVENT
UID:9fbda4e3-a39a-4aca-bdbe-f89d0f5b0fe2
DTSTAMP:20251022T083838Z
SUMMARY:WebRTC WG October 2025 call
DTSTART;TZID=Etc/UTC:20251021T150000
DTEND;TZID=Etc/UTC:20251021T170000
DESCRIPTION:https://www.w3.org/events/meetings/9fbda4e3-a39a-4aca-bdbe-f89d
 0f5b0fe2/\n\n\n\nAgenda: https://www.w3.org/2011/04/webrtc/wiki/October_21
 _2025
STATUS:CONFIRMED
CREATED:20250723T062321Z
LAST-MODIFIED:20251022T083838Z
SEQUENCE:2
ORGANIZER;CN=W3C Calendar;PARTSTAT=ACCEPTED;ROLE=NON-PARTICIPANT:mailto:nor
 eply@w3.org
ATTENDEE;CUTYPE=GROUP;ROLE=OPT-PARTICIPANT;RSVP=FALSE;CN=Web Real-Time Comm
 unications Working Group:mailto:public-webrtc@w3.org
END:VEVENT
END:VCALENDAR
