BEGIN:VCALENDAR
VERSION:2.0
PRODID:-//Sabre//Sabre VObject 4.5.8//EN
CALSCALE:GREGORIAN
LAST-MODIFIED:20221128T182321Z
BEGIN:VTIMEZONE
TZID:America/New_York
X-MICROSOFT-CDO-TZID:10
BEGIN:DAYLIGHT
DTSTART:20220313T070000
TZOFFSETFROM:-0500
TZOFFSETTO:-0400
TZNAME:EDT
END:DAYLIGHT
BEGIN:DAYLIGHT
DTSTART:20230312T070000
TZOFFSETFROM:-0500
TZOFFSETTO:-0400
TZNAME:EDT
END:DAYLIGHT
BEGIN:STANDARD
DTSTART:20221106T060000
TZOFFSETFROM:-0400
TZOFFSETTO:-0500
TZNAME:EST
END:STANDARD
END:VTIMEZONE
BEGIN:VEVENT
UID:9f48487f-6009-41d0-ada0-3de89c365a18
DTSTAMP:20221128T182321Z
SUMMARY:Accessibility at the Edge Community Group Weekly Teleconference
DTSTART;TZID=America/New_York:20221128T130000
DTEND;TZID=America/New_York:20221128T140000
DESCRIPTION:https://www.w3.org/events/meetings/9f48487f-6009-41d0-ada0-3de8
 9c365a18/\n\nWeekly teleconference for the Accessibility at the Edge Commu
 nity Group\, whose mission is to examine improvements to internet accessib
 ility via "edge computing"\, a relatively new paradigm that focuses on per
 forming tasks at the edge of the network. We plan to cover all relevant to
 pics including overlays and prospective applications not yet implemented a
 nywhere. A11Y-EDGE CG meetings work and operate under the W3C Code of Ethi
 cs and Professional Conduct https://www.w3.org/Consortium/cepc/.
STATUS:CONFIRMED
CREATED:20221125T143226Z
LAST-MODIFIED:20221128T182321Z
SEQUENCE:2
ORGANIZER;CN=W3C Calendar;PARTSTAT=ACCEPTED;ROLE=NON-PARTICIPANT:mailto:nor
 eply@w3.org
ATTENDEE;CUTYPE=GROUP;ROLE=OPT-PARTICIPANT;RSVP=FALSE;CN=Accessibility at t
 he Edge Community Group:mailto:public-a11yedge@w3.org
END:VEVENT
END:VCALENDAR
