BEGIN:VCALENDAR
VERSION:2.0
PRODID:-//Sabre//Sabre VObject 4.5.8//EN
CALSCALE:GREGORIAN
LAST-MODIFIED:20250422T185638Z
BEGIN:VTIMEZONE
TZID:America/New_York
X-MICROSOFT-CDO-TZID:10
BEGIN:STANDARD
DTSTART:20241103T060000
TZOFFSETFROM:-0400
TZOFFSETTO:-0500
TZNAME:EST
END:STANDARD
BEGIN:STANDARD
DTSTART:20251102T060000
TZOFFSETFROM:-0400
TZOFFSETTO:-0500
TZNAME:EST
END:STANDARD
BEGIN:DAYLIGHT
DTSTART:20250309T070000
TZOFFSETFROM:-0500
TZOFFSETTO:-0400
TZNAME:EDT
END:DAYLIGHT
END:VTIMEZONE
BEGIN:VEVENT
UID:9f463c4a-fb8c-4851-b904-23293e467ed3
DTSTAMP:20250422T185638Z
SUMMARY:VC-EDU Task Force - Weekly Call
DTSTART;TZID=America/New_York:20250421T110000
DTEND;TZID=America/New_York:20250421T115000
DESCRIPTION:https://www.w3.org/events/meetings/9f463c4a-fb8c-4851-b904-2329
 3e467ed3/\n\n1. IP Note:\nAnyone can participate in these calls. However\,
  all substantive contributors to any CCG Work Items must be members of the
  CCG with full IPR agreements signed. https://www.w3.org/community/credent
 ials/join\n    a. Ensure you have a W3 account: https://www.w3.org/account
 s/request\n    b. W3C COMMUNITY CONTRIBUTOR LICENSE AGREEMENT (CLA): https
 ://www.w3.org/community/about/agreements/cla/\n\n2. Call Notes: \n    a. W
 e use Google Meet to conduct our calls\n    b. All our calls are recorded 
 and transcribed \n    c. You can contribute to the conversation by typing 
 in the chat\, or joining the speaker queue by raising your hand\n    d. Pl
 ease keep your verbal contribution brief\, so the rest of the queue can al
 so get a chance to chime in\n    e. The machine-generated minutes and an a
 udio recording of everything said on this call are archived at https://w3c
 -ccg.github.io/meetings/\n\n3. Introductions & Reintroductions\n\n4. Annou
 ncements & Reminders\nUpcoming CCG Meetings & Events: https://w3c-ccg.gith
 ub.io/announcements/\n\n5. Main Topic
STATUS:CONFIRMED
CREATED:20250417T232618Z
LAST-MODIFIED:20250422T185638Z
SEQUENCE:2
ORGANIZER;CN=W3C Calendar;PARTSTAT=ACCEPTED;ROLE=NON-PARTICIPANT:mailto:nor
 eply@w3.org
ATTENDEE;CUTYPE=GROUP;ROLE=OPT-PARTICIPANT;RSVP=FALSE;CN=Credentials Commun
 ity Group:mailto:public-credentials@w3.org
LOCATION:https://meet.google.com/kte-hamg-bpj
END:VEVENT
END:VCALENDAR
