BEGIN:VCALENDAR
VERSION:2.0
PRODID:-//Sabre//Sabre VObject 4.5.8//EN
CALSCALE:GREGORIAN
LAST-MODIFIED:20251103T174823Z
BEGIN:VTIMEZONE
TZID:Asia/Tokyo
X-MICROSOFT-CDO-TZID:20
BEGIN:STANDARD
DTSTART:20241119T000000
TZOFFSETFROM:+0900
TZOFFSETTO:+0900
TZNAME:JST
END:STANDARD
END:VTIMEZONE
BEGIN:VEVENT
UID:9f20022c-8706-44ae-a228-16691168c698
DTSTAMP:20251103T174823Z
SUMMARY:Web of Things WG\, Web of Things IG joint meeting
DTSTART;TZID=Asia/Tokyo:20251114T090000
DTEND;TZID=Asia/Tokyo:20251114T180000
DESCRIPTION:https://www.w3.org/events/meetings/9f20022c-8706-44ae-a228-1669
 1168c698/\n\n\n\nAgenda: https://www.w3.org/WoT/IG/wiki/Wiki_for_TPAC_2025
 _planning
STATUS:CONFIRMED
CREATED:20250716T142706Z
LAST-MODIFIED:20251103T174823Z
SEQUENCE:11
ORGANIZER;CN=W3C Calendar;PARTSTAT=ACCEPTED;ROLE=NON-PARTICIPANT:mailto:nor
 eply@w3.org
ATTENDEE;CUTYPE=GROUP;ROLE=OPT-PARTICIPANT;RSVP=FALSE;CN=Web of Things Inte
 rest Group:mailto:public-wot-ig@w3.org
ATTENDEE;CUTYPE=GROUP;ROLE=OPT-PARTICIPANT;RSVP=FALSE;CN=Web of Things Work
 ing Group:mailto:public-wot-wg@w3.org
LOCATION:Floor 3 - 302
CATEGORIES:TPAC 2025,Group Meetings
END:VEVENT
END:VCALENDAR
