BEGIN:VCALENDAR
VERSION:2.0
PRODID:-//Sabre//Sabre VObject 4.5.8//EN
CALSCALE:GREGORIAN
LAST-MODIFIED:20260219T060235Z
BEGIN:VTIMEZONE
TZID:Asia/Tokyo
X-MICROSOFT-CDO-TZID:20
BEGIN:STANDARD
DTSTART:20241117T083000
TZOFFSETFROM:+0900
TZOFFSETTO:+0900
TZNAME:JST
END:STANDARD
END:VTIMEZONE
BEGIN:VEVENT
UID:9ef252a4-a0c0-45ac-ba80-5bcb0130d1ff
DTSTAMP:20260219T060235Z
SUMMARY:Updates on Servo
DTSTART;TZID=Asia/Tokyo:20251112T173000
DTEND;TZID=Asia/Tokyo:20251112T183000
DESCRIPTION:https://www.w3.org/events/meetings/9ef252a4-a0c0-45ac-ba80-5bcb
 0130d1ff/\n\nIn this session\, we are going to share the recent progress o
 n the development of the Servo project\, future direction choices\, as wel
 l as the challenges we are facing as an immature UA implementation.\n\n**G
 oal(s):**\nShare our recent progress\, attract interest to the Servo commu
 nity\, and raise awareness of the issue of UA diversity.\n\nAgenda\n\n**Ma
 terials:**\n- [Session proposal on GitHub](https://github.com/w3c/tpac2025
 -breakouts/issues/35)
STATUS:CONFIRMED
CREATED:20251028T073808Z
LAST-MODIFIED:20260219T060235Z
SEQUENCE:4
ORGANIZER;CN=W3C Calendar;PARTSTAT=ACCEPTED;ROLE=NON-PARTICIPANT:mailto:nor
 eply@w3.org
LOCATION:Floor 4 - 401
CATEGORIES:TPAC 2025,Breakout Sessions
END:VEVENT
END:VCALENDAR
