BEGIN:VCALENDAR
VERSION:2.0
PRODID:-//Sabre//Sabre VObject 4.5.8//EN
CALSCALE:GREGORIAN
LAST-MODIFIED:20231205T085209Z
BEGIN:VTIMEZONE
TZID:America/New_York
X-MICROSOFT-CDO-TZID:10
BEGIN:DAYLIGHT
DTSTART:20230312T070000
TZOFFSETFROM:-0500
TZOFFSETTO:-0400
TZNAME:EDT
END:DAYLIGHT
BEGIN:DAYLIGHT
DTSTART:20240310T070000
TZOFFSETFROM:-0500
TZOFFSETTO:-0400
TZNAME:EDT
END:DAYLIGHT
BEGIN:STANDARD
DTSTART:20231105T060000
TZOFFSETFROM:-0400
TZOFFSETTO:-0500
TZNAME:EST
END:STANDARD
END:VTIMEZONE
BEGIN:VEVENT
UID:9d9cd6de-4050-49a3-bc98-28f25992ab74
DTSTAMP:20231205T085209Z
SUMMARY:Private Advertising Technology CG Meeting
DTSTART;TZID=America/New_York:20231207T020000
DTEND;TZID=America/New_York:20231207T050000
DESCRIPTION:https://www.w3.org/events/meetings/9d9cd6de-4050-49a3-bc98-28f2
 5992ab74/20231207T020000/\n\nMeeting of Private Advertising Technology CG.
 \n\nAgenda: https://github.com/patcg/meetings/tree/main/2023/12/5-telecon\
 n\nJoining Instructions: https://w3c.zoom.us/j/82659868398?pwd=R2wyMlVzVGc
 wcmZJb1BpZmdDc2crUT09\n\nChat\n\nhttps://w3ccommunity.slack.com/
STATUS:CANCELLED
CREATED:20231205T085157Z
LAST-MODIFIED:20231205T085209Z
SEQUENCE:1
ORGANIZER;CN=W3C Calendar;PARTSTAT=ACCEPTED;ROLE=NON-PARTICIPANT:mailto:nor
 eply@w3.org
ATTENDEE;CUTYPE=GROUP;ROLE=OPT-PARTICIPANT;RSVP=FALSE;CN=Private Advertisin
 g Technology Community Group:mailto:public-patcg@w3.org
RECURRENCE-ID;TZID=America/New_York:20231207T020000
END:VEVENT
END:VCALENDAR
