BEGIN:VCALENDAR
VERSION:2.0
PRODID:-//Sabre//Sabre VObject 4.5.8//EN
CALSCALE:GREGORIAN
LAST-MODIFIED:20240927T233630Z
BEGIN:VTIMEZONE
TZID:America/Los_Angeles
X-MICROSOFT-CDO-TZID:13
BEGIN:STANDARD
DTSTART:20231105T090000
TZOFFSETFROM:-0700
TZOFFSETTO:-0800
TZNAME:PST
END:STANDARD
BEGIN:STANDARD
DTSTART:20241103T090000
TZOFFSETFROM:-0700
TZOFFSETTO:-0800
TZNAME:PST
END:STANDARD
BEGIN:DAYLIGHT
DTSTART:20240310T100000
TZOFFSETFROM:-0800
TZOFFSETTO:-0700
TZNAME:PDT
END:DAYLIGHT
END:VTIMEZONE
BEGIN:VEVENT
UID:9d57a760-50f3-4b90-b977-ea27bf3e66e2
DTSTAMP:20240927T233630Z
SUMMARY:Verifiable Credentials Working Group\, Security Interest Group Join
 t Meeting
DTSTART;TZID=America/Los_Angeles:20240927T163000
DTEND;TZID=America/Los_Angeles:20240927T180000
DESCRIPTION:https://www.w3.org/events/meetings/9d57a760-50f3-4b90-b977-ea27
 bf3e66e2/\n\n\n\nAgenda\n\n16:30\nJoint session with Security Group
STATUS:CONFIRMED
CREATED:20240614T161700Z
LAST-MODIFIED:20240927T233630Z
SEQUENCE:7
ORGANIZER;CN=W3C Calendar;PARTSTAT=ACCEPTED;ROLE=NON-PARTICIPANT:mailto:nor
 eply@w3.org
ATTENDEE;CUTYPE=GROUP;ROLE=OPT-PARTICIPANT;RSVP=FALSE;CN=Verifiable Credent
 ials Working Group:mailto:public-vc-wg@w3.org
LOCATION:4 Concourse Level - Redondo
CATEGORIES:TPAC 2024,Group Meetings
END:VEVENT
END:VCALENDAR
