BEGIN:VCALENDAR
VERSION:2.0
PRODID:-//Sabre//Sabre VObject 4.5.8//EN
CALSCALE:GREGORIAN
LAST-MODIFIED:20260324T165328Z
BEGIN:VTIMEZONE
TZID:Etc/UTC
BEGIN:STANDARD
DTSTART:20250329T150000
TZOFFSETFROM:+0000
TZOFFSETTO:+0000
TZNAME:UTC
END:STANDARD
END:VTIMEZONE
BEGIN:VEVENT
UID:9d16186f-6076-4890-9213-f5f2de910709
DTSTAMP:20260324T165328Z
SUMMARY:WebRTC WG March 2026 call
DTSTART;TZID=Etc/UTC:20260324T150000
DTEND;TZID=Etc/UTC:20260324T170000
DESCRIPTION:https://www.w3.org/events/meetings/9d16186f-6076-4890-9213-f5f2
 de910709/\n\n\n\nAgenda: https://www.w3.org/2011/04/webrtc/wiki/March_24_2
 026
STATUS:CONFIRMED
CREATED:20251127T094610Z
LAST-MODIFIED:20260324T165328Z
SEQUENCE:1
ORGANIZER;CN=W3C Calendar;PARTSTAT=ACCEPTED;ROLE=NON-PARTICIPANT:mailto:nor
 eply@w3.org
ATTENDEE;CUTYPE=GROUP;ROLE=OPT-PARTICIPANT;RSVP=FALSE;CN=Web Real-Time Comm
 unications Working Group:mailto:public-webrtc@w3.org
END:VEVENT
END:VCALENDAR
