BEGIN:VCALENDAR
VERSION:2.0
PRODID:-//Sabre//Sabre VObject 4.5.8//EN
CALSCALE:GREGORIAN
LAST-MODIFIED:20220914T210237Z
BEGIN:VTIMEZONE
TZID:America/Vancouver
BEGIN:STANDARD
DTSTART:20211107T090000
TZOFFSETFROM:-0700
TZOFFSETTO:-0800
TZNAME:PST
END:STANDARD
BEGIN:STANDARD
DTSTART:20221106T090000
TZOFFSETFROM:-0700
TZOFFSETTO:-0800
TZNAME:PST
END:STANDARD
BEGIN:DAYLIGHT
DTSTART:20220313T100000
TZOFFSETFROM:-0800
TZOFFSETTO:-0700
TZNAME:PDT
END:DAYLIGHT
END:VTIMEZONE
BEGIN:VEVENT
UID:9c1fccb0-4346-456d-a07a-01a12b5884b7
DTSTAMP:20220914T210237Z
SUMMARY:IP address privacy
DTSTART;TZID=America/Vancouver:20220914T133000
DTEND;TZID=America/Vancouver:20220914T143000
DESCRIPTION:https://www.w3.org/events/meetings/9c1fccb0-4346-456d-a07a-01a1
 2b5884b7/\n\nIP address is a highly identifiable signal used for cross-sit
 e identity joining i.e. tracking users. How can we mitigate this privacy r
 isk? Discuss relevant technologies\n\nAgenda\n\n**Facilitators & speakers*
 *: Shubhie Panicker\, David Schinazi\, Jon Gibson\n\n**Session type**: bri
 ef context setting\, followed by open discussion\n\n**Summary**: IP addres
 s is a highly identifiable signal used for cross-site identity joining i.e
 . tracking users. How can we mitigate this privacy risk? Discuss relevant 
 technologies\n\n**Goals**:\n- gather feedback on IP Privacy and relevant t
 ech ideas\n\nJoining Instructions: https://us02web.zoom.us/j/9321684963?pw
 d=ck1EeTg3aWFHMkx4Y3UwUDlaemJpQT09\n\nChat\n\nhttps://irc.w3.org/?channels
 =%23ip-privacy
STATUS:CONFIRMED
CREATED:20220909T111701Z
LAST-MODIFIED:20220914T210237Z
SEQUENCE:1
ORGANIZER;CN=W3C Calendar;PARTSTAT=ACCEPTED;ROLE=NON-PARTICIPANT:mailto:nor
 eply@w3.org
ATTENDEE;CN=Providence Baraka:mailto:barakaprovidence@gmail.com
ATTENDEE;CN=David Benoit:mailto:benoit@xdal.org
ATTENDEE;CN=Christian Biesinger:mailto:cbiesinger@google.com
ATTENDEE;CN=Jan-Ivar Bruaroey:mailto:jib@mozilla.com
ATTENDEE;CN=Aykut Bulut:mailto:aykutb@google.com
ATTENDEE;CN=Judith Bush:mailto:idpro@grey-cat.com
ATTENDEE;CN=Brian Campbell:mailto:bcampbell@pingidentity.com
ATTENDEE;CN=Gabe Cohen:mailto:gabe.l.cohen@gmail.com
ATTENDEE;CN=Alex Cone:mailto:alex.cone@iabtechlab.com
ATTENDEE;CN=Benjamin De Kosnik:mailto:bdekoz@mozilla.com
ATTENDEE;CN=Domenic Denicola:mailto:d@domenic.me
ATTENDEE;CN=Nick Doty:mailto:ndoty@cdt.org
ATTENDEE;CN=Jon Gibson:mailto:jongibson@google.com
ATTENDEE;CN=Sam Goto:mailto:goto@google.com
ATTENDEE;CN=Yi Gu:mailto:yigu@google.com
ATTENDEE;CN=Charlie Harrison:mailto:csharrison@google.com
ATTENDEE;CN=Tim Huang:mailto:tihuang@mozilla.com
ATTENDEE;CN=Artur Janc:mailto:aaj@google.com
ATTENDEE;CN=Josh Karlin:mailto:jkarlin@google.com
ATTENDEE;CN=Masakazu Kitahara:mailto:mkitahara@voyager.co.jp
ATTENDEE;CN=Michael Kleber:mailto:kleber@google.com
ATTENDEE;CN=Toshiaki Koike:mailto:koike@voyager.co.jp
ATTENDEE;CN=Alex Koshelev:mailto:koshelev@fb.com
ATTENDEE;CN=Camille Lamy:mailto:clamy@google.com
ATTENDEE;CN=Don Le:mailto:donle@article19.org
ATTENDEE;CN=Chris Lemmons:mailto:chris_lemmons@comcast.com
ATTENDEE;CN=Yifan Luo:mailto:lyf@google.com
ATTENDEE;CN=Brian May:mailto:imbmaydst@gmail.com
ATTENDEE;CN=Michael McCool:mailto:michael.d.mccool@gmail.com
ATTENDEE;CN=Guillermo Movia:mailto:gmovia@internetbolivia.org
ATTENDEE;CN=Jeremy Ney:mailto:jney@google.com
ATTENDEE;CN=Mark Nottingham:mailto:mnot@mnot.net
ATTENDEE;CN=Michael O'Neill:mailto:mike@baycloud.ie
ATTENDEE;CN=Vinod Panicker:mailto:doniv@amazon.com
ATTENDEE;CN=Tommy Pauly:mailto:tpauly@apple.com
ATTENDEE;CN=Gregorio Pellegrino:mailto:gregorio.pellegrino@fondazionelia.or
 g
ATTENDEE;CN=Philipp Pfeiffenberger:mailto:philippp@google.com
ATTENDEE;CN=James Rosewell:mailto:james@51degrees.com
ATTENDEE;CN=David Schinazi:mailto:dschinazi@google.com
ATTENDEE;CN=Bernhard Seefeld:mailto:seefeld@google.com
ATTENDEE;CN=Elias Selman:mailto:e.selman@criteo.com
ATTENDEE;CN=Rachit Sharma:mailto:rachit@iabtechlab.com
ATTENDEE;CN=Shivani Sharma:mailto:shivanisha@google.com
ATTENDEE;CN=Russell Stringham:mailto:rstringh@adobe.com
ATTENDEE;CN=Sameer Tare:mailto:sameer.tare@mastercard.com
ATTENDEE;CN=Sergey Tumakha:mailto:stumakha@microsoft.com
ATTENDEE;CN=David Turner:mailto:dbturner@google.com
ATTENDEE;CN=Tom Van Goethem:mailto:tov@google.com
ATTENDEE;CN=Jeffrey Yasskin:mailto:jyasskin@google.com
ATTENDEE;CN=Emma Zuehlcke:mailto:emz@mozilla.com
ATTENDEE;CN=Brent Zundel:mailto:brent.zundel@gmail.com
ATTENDEE;CN=Aoyuan Zuo:mailto:zuoaoyuan@google.com
LOCATION:Port Alberni — North Tower 4th floor
CATEGORIES:TPAC 2022,Breakout Sessions
END:VEVENT
END:VCALENDAR
