BEGIN:VCALENDAR
VERSION:2.0
PRODID:-//Sabre//Sabre VObject 4.5.8//EN
CALSCALE:GREGORIAN
LAST-MODIFIED:20250226T092915Z
BEGIN:VTIMEZONE
TZID:Etc/UTC
BEGIN:STANDARD
DTSTART:20240224T160000
TZOFFSETFROM:+0000
TZOFFSETTO:+0000
TZNAME:UTC
END:STANDARD
END:VTIMEZONE
BEGIN:VEVENT
UID:9c0ab65e-47a1-4a70-9f06-75bb442d1aad
DTSTAMP:20250226T092915Z
SUMMARY:WebRTC WG February 2025 call
DTSTART;TZID=Etc/UTC:20250218T160000
DTEND;TZID=Etc/UTC:20250218T180000
DESCRIPTION:https://www.w3.org/events/meetings/9c0ab65e-47a1-4a70-9f06-75bb
 442d1aad/\n\n\n\nAgenda: https://www.w3.org/2011/04/webrtc/wiki/February_1
 8_2025
STATUS:CONFIRMED
CREATED:20241210T131016Z
LAST-MODIFIED:20250226T092915Z
SEQUENCE:1
ORGANIZER;CN=W3C Calendar;PARTSTAT=ACCEPTED;ROLE=NON-PARTICIPANT:mailto:nor
 eply@w3.org
ATTENDEE;CUTYPE=GROUP;ROLE=OPT-PARTICIPANT;RSVP=FALSE;CN=Web Real-Time Comm
 unications Working Group:mailto:public-webrtc@w3.org
END:VEVENT
END:VCALENDAR
