BEGIN:VCALENDAR
VERSION:2.0
PRODID:-//Sabre//Sabre VObject 4.5.8//EN
CALSCALE:GREGORIAN
LAST-MODIFIED:20241010T041035Z
BEGIN:VTIMEZONE
TZID:America/New_York
X-MICROSOFT-CDO-TZID:10
BEGIN:STANDARD
DTSTART:20231105T060000
TZOFFSETFROM:-0400
TZOFFSETTO:-0500
TZNAME:EST
END:STANDARD
BEGIN:STANDARD
DTSTART:20241103T060000
TZOFFSETFROM:-0400
TZOFFSETTO:-0500
TZNAME:EST
END:STANDARD
BEGIN:DAYLIGHT
DTSTART:20240310T070000
TZOFFSETFROM:-0500
TZOFFSETTO:-0400
TZNAME:EDT
END:DAYLIGHT
END:VTIMEZONE
BEGIN:VEVENT
UID:9bfb4063-230b-4f59-b14c-fbf670b8a51b
DTSTAMP:20241010T041035Z
SUMMARY:VCWG Meeting
DTSTART;TZID=America/New_York:20241009T110000
DTEND;TZID=America/New_York:20241009T120000
DESCRIPTION:https://www.w3.org/events/meetings/9bfb4063-230b-4f59-b14c-fbf6
 70b8a51b/20241009T110000/\n\nThe regular meeting for the Verifiable Creden
 tials Working Group.\n\nAgenda\n\n### Date and Time:\nWednesday 09 Oct 202
 4\nTime: 11:00 AM Boston (60min)\nLocal date/time link: https://www.timean
 ddate.com/worldclock/fixedtime.html?msg=VCWG+Meeting&iso=20241009T11&p1=43
 &ah=1\n\n### SPECIAL NOTE\, if any:\n\n\n### Scribe list: \nDavidL\, Jenni
 eM\, AnilJ\, PhilL\, MikeJones\, BenY\, DavidC\, GabeC\, WillA\, JAndrieu\
 , Dave\, ManuS\, KDean\, DmitriZ\, WesleyS\n\n### Meeting Chair:\nBrent Zu
 ndel\n\n### Topics (time)\n1-Agenda Review\, Introductions  (5 min)\n2-TPA
 C Recap  (5 min)\n3-Controller Document  (45 min)\n\n#### Links\n\n### Iss
 ues marked pending close:\nAs of the time this email was sent\, the follow
 ing issues and PRs were marked 'pending close':\n\nThere are no pending cl
 ose issues\n\nFor an up to date list of the current set of 'pending close'
  issues\, please see: \nhttps://github.com/w3c/vc-data-model/issues?q=is%3
 Aissue+is%3Aopen+sort%3Aupdated-asc+label%3A%22pending+close%22
STATUS:CONFIRMED
CREATED:20241001T025920Z
LAST-MODIFIED:20241010T041035Z
SEQUENCE:5
ORGANIZER;CN=W3C Calendar;PARTSTAT=ACCEPTED;ROLE=NON-PARTICIPANT:mailto:nor
 eply@w3.org
ATTENDEE;CUTYPE=GROUP;ROLE=OPT-PARTICIPANT;RSVP=FALSE;CN=Verifiable Credent
 ials Working Group:mailto:public-vc-wg@w3.org
RECURRENCE-ID;TZID=America/New_York:20241009T110000
END:VEVENT
END:VCALENDAR
