BEGIN:VCALENDAR
VERSION:2.0
PRODID:-//Sabre//Sabre VObject 4.5.8//EN
CALSCALE:GREGORIAN
LAST-MODIFIED:20240702T192909Z
BEGIN:VTIMEZONE
TZID:America/New_York
X-MICROSOFT-CDO-TZID:10
BEGIN:STANDARD
DTSTART:20231105T060000
TZOFFSETFROM:-0400
TZOFFSETTO:-0500
TZNAME:EST
END:STANDARD
BEGIN:STANDARD
DTSTART:20241103T060000
TZOFFSETFROM:-0400
TZOFFSETTO:-0500
TZNAME:EST
END:STANDARD
BEGIN:DAYLIGHT
DTSTART:20240310T070000
TZOFFSETFROM:-0500
TZOFFSETTO:-0400
TZNAME:EDT
END:DAYLIGHT
END:VTIMEZONE
BEGIN:VEVENT
UID:9bfb4063-230b-4f59-b14c-fbf670b8a51b
DTSTAMP:20240702T192909Z
SUMMARY:VCWG Meeting
DTSTART;TZID=America/New_York:20240925T110000
DTEND;TZID=America/New_York:20240925T120000
DESCRIPTION:https://www.w3.org/events/meetings/9bfb4063-230b-4f59-b14c-fbf6
 70b8a51b/20240925T110000/\n\nThe regular meeting for the Verifiable Creden
 tials Working Group.
STATUS:CANCELLED
CREATED:20240615T070116Z
LAST-MODIFIED:20240702T192909Z
SEQUENCE:5
ORGANIZER;CN=W3C Calendar;PARTSTAT=ACCEPTED;ROLE=NON-PARTICIPANT:mailto:nor
 eply@w3.org
ATTENDEE;CUTYPE=GROUP;ROLE=OPT-PARTICIPANT;RSVP=FALSE;CN=Verifiable Credent
 ials Working Group:mailto:public-vc-wg@w3.org
RECURRENCE-ID;TZID=America/New_York:20240925T110000
END:VEVENT
END:VCALENDAR
