BEGIN:VCALENDAR
VERSION:2.0
PRODID:-//Sabre//Sabre VObject 4.5.8//EN
CALSCALE:GREGORIAN
LAST-MODIFIED:20240901T071853Z
BEGIN:VTIMEZONE
TZID:America/New_York
X-MICROSOFT-CDO-TZID:10
BEGIN:STANDARD
DTSTART:20231105T060000
TZOFFSETFROM:-0400
TZOFFSETTO:-0500
TZNAME:EST
END:STANDARD
BEGIN:STANDARD
DTSTART:20241103T060000
TZOFFSETFROM:-0400
TZOFFSETTO:-0500
TZNAME:EST
END:STANDARD
BEGIN:DAYLIGHT
DTSTART:20240310T070000
TZOFFSETFROM:-0500
TZOFFSETTO:-0400
TZNAME:EDT
END:DAYLIGHT
END:VTIMEZONE
BEGIN:VEVENT
UID:9bfb4063-230b-4f59-b14c-fbf670b8a51b
DTSTAMP:20240901T071853Z
SUMMARY:VCWG Meeting
DTSTART;TZID=America/New_York:20240828T110000
DTEND;TZID=America/New_York:20240828T120000
DESCRIPTION:https://www.w3.org/events/meetings/9bfb4063-230b-4f59-b14c-fbf6
 70b8a51b/20240828T110000/\n\nThe regular meeting for the Verifiable Creden
 tials Working Group.\n\nAgenda\n\n### Date and Time:\nWednesday 28 Aug 202
 4\nTime: 11:00 AM Boston (60min)\nLocal date/time link: https://www.timean
 ddate.com/worldclock/fixedtime.html?msg=VCWG+Meeting&iso=20240828T11&p1=43
 &ah=1\n\n### SPECIAL NOTE\, if any:\n\n\n### Scribe list: \nDmitriZ\, Mahm
 oud\, DavidL\, JennieM\, AnilJ\, PhilL\, MikeJones\, BenY\, DavidC\, GabeC
 \, WillA\, JAndrieu\, WesleyS\, Dave\, ManuS\, KDean\n\n### Meeting Chair:
 \nBrent Zundel\n\n### Topics (time)\n1-Agenda Review\, Introductions  (5 m
 in)\n2-TPAC attendance [1] (5 min)\n3-VCDM Wrap Up [2] (15 min)\n4-Control
 ler Document [3] (30 min)\n\n#### Links\n[1] https://docs.google.com/sprea
 dsheets/d/18As8BMku1s536XxrJNvKus-08w-bGc1bRqvqzrGPpE0/edit?usp=sharing\n[
 2] https://github.com/w3c/vc-data-model/issues?q=is%3Aissue+is%3Aopen+-lab
 el%3Afuture+sort%3Aupdated-asc\n[3] Pull requests · w3c/controller-docume
 nt · GitHub\n\n### Issues marked pending close:\nAs of the time this emai
 l was sent\, the following issues and PRs were marked 'pending close':\n\n
 There are no pending close issues\n\nFor an up to date list of the current
  set of 'pending close' issues\, please see: \nhttps://github.com/w3c/vc-d
 ata-model/issues?q=is%3Aissue+is%3Aopen+sort%3Aupdated-asc+label%3A%22pend
 ing+close%22
STATUS:CONFIRMED
CREATED:20240827T112939Z
LAST-MODIFIED:20240901T071853Z
SEQUENCE:5
ORGANIZER;CN=W3C Calendar;PARTSTAT=ACCEPTED;ROLE=NON-PARTICIPANT:mailto:nor
 eply@w3.org
ATTENDEE;CUTYPE=GROUP;ROLE=OPT-PARTICIPANT;RSVP=FALSE;CN=Verifiable Credent
 ials Working Group:mailto:public-vc-wg@w3.org
RECURRENCE-ID;TZID=America/New_York:20240828T110000
END:VEVENT
END:VCALENDAR
