BEGIN:VCALENDAR
VERSION:2.0
PRODID:-//Sabre//Sabre VObject 4.5.8//EN
CALSCALE:GREGORIAN
LAST-MODIFIED:20240804T143702Z
BEGIN:VTIMEZONE
TZID:America/New_York
X-MICROSOFT-CDO-TZID:10
BEGIN:STANDARD
DTSTART:20231105T060000
TZOFFSETFROM:-0400
TZOFFSETTO:-0500
TZNAME:EST
END:STANDARD
BEGIN:STANDARD
DTSTART:20241103T060000
TZOFFSETFROM:-0400
TZOFFSETTO:-0500
TZNAME:EST
END:STANDARD
BEGIN:DAYLIGHT
DTSTART:20240310T070000
TZOFFSETFROM:-0500
TZOFFSETTO:-0400
TZNAME:EDT
END:DAYLIGHT
END:VTIMEZONE
BEGIN:VEVENT
UID:9bfb4063-230b-4f59-b14c-fbf670b8a51b
DTSTAMP:20240804T143702Z
SUMMARY:VCWG Meeting
DTSTART;TZID=America/New_York:20240731T110000
DTEND;TZID=America/New_York:20240731T120000
DESCRIPTION:https://www.w3.org/events/meetings/9bfb4063-230b-4f59-b14c-fbf6
 70b8a51b/20240731T110000/\n\nThe regular meeting for the Verifiable Creden
 tials Working Group.\n\nAgenda\n\n### Date and Time:\nWednesday 31 Jul 202
 4\nTime: 11:00 AM Boston (60min)\nLocal date/time link: https://www.timean
 ddate.com/worldclock/fixedtime.html?msg=VCWG+Meeting&iso=20240731T11&p1=43
 &ah=1\n\n### SPECIAL NOTE\, if any:\n\n\n### Scribe list: \nPaulD\, GregB\
 , JAndrieu\, DmitriZ\, Mahmoud\, DavidL\, JennieM\, AnilJ\, PhilL\, DaveL\
 , ManuS\, MikeJones\, BenY\, WesleyS\, KDean\, DavidC\, GabeC\, WillA\n\n#
 ## Meeting Chair:\nBrent Zundel\n\n### Topics (time)\n1-Agenda Review\, In
 troductions  (5 min)\n2-VCDM Wrap Up [1] (10 min)\n3-VC Data Interity  [2]
  (20 min)\n4-Controller Document [3] (20 min)\n\n#### Links\n[1] https://g
 ithub.com/w3c/vc-data-model/issues?q=is%3Aissue+is%3Aopen+-label%3Afuture+
 sort%3Aupdated-asc\n[2] https://github.com/w3c/vc-data-integrity/issues/27
 2\n[3] https://github.com/w3c/vc-data-model/pulls\n\n### Issues marked pen
 ding close:\nAs of the time this email was sent\, the following issues and
  PRs were marked 'pending close':\n\nThere are no pending close issues\n\n
 For an up to date list of the current set of 'pending close' issues\, plea
 se see: \nhttps://github.com/w3c/vc-data-model/issues?q=is%3Aissue+is%3Aop
 en+sort%3Aupdated-asc+label%3A%22pending+close%22
STATUS:CONFIRMED
CREATED:20240730T171700Z
LAST-MODIFIED:20240804T143702Z
SEQUENCE:5
ORGANIZER;CN=W3C Calendar;PARTSTAT=ACCEPTED;ROLE=NON-PARTICIPANT:mailto:nor
 eply@w3.org
ATTENDEE;CUTYPE=GROUP;ROLE=OPT-PARTICIPANT;RSVP=FALSE;CN=Verifiable Credent
 ials Working Group:mailto:public-vc-wg@w3.org
RECURRENCE-ID;TZID=America/New_York:20240731T110000
END:VEVENT
END:VCALENDAR
