BEGIN:VCALENDAR
VERSION:2.0
PRODID:-//Sabre//Sabre VObject 4.5.8//EN
CALSCALE:GREGORIAN
LAST-MODIFIED:20251103T174405Z
BEGIN:VTIMEZONE
TZID:Asia/Tokyo
X-MICROSOFT-CDO-TZID:20
BEGIN:STANDARD
DTSTART:20241119T000000
TZOFFSETFROM:+0900
TZOFFSETTO:+0900
TZNAME:JST
END:STANDARD
END:VTIMEZONE
BEGIN:VEVENT
UID:9be8b030-8bb9-4dab-a647-24dc763075bf
DTSTAMP:20251103T174405Z
SUMMARY:Cascading Style Sheets (CSS) Working Group
DTSTART;TZID=Asia/Tokyo:20251114T090000
DTEND;TZID=Asia/Tokyo:20251114T180000
DESCRIPTION:https://www.w3.org/events/meetings/9be8b030-8bb9-4dab-a647-24dc
 763075bf/\n\n
STATUS:CONFIRMED
CREATED:20250716T142239Z
LAST-MODIFIED:20251103T174405Z
SEQUENCE:10
ORGANIZER;CN=W3C Calendar;PARTSTAT=ACCEPTED;ROLE=NON-PARTICIPANT:mailto:nor
 eply@w3.org
ATTENDEE;CUTYPE=GROUP;ROLE=OPT-PARTICIPANT;RSVP=FALSE;CN=Cascading Style Sh
 eets (CSS) Working Group:mailto:www-style@w3.org
LOCATION:Floor 5 - 502
CATEGORIES:TPAC 2025,Group Meetings
END:VEVENT
END:VCALENDAR
