BEGIN:VCALENDAR
VERSION:2.0
PRODID:-//Sabre//Sabre VObject 4.5.8//EN
CALSCALE:GREGORIAN
LAST-MODIFIED:20251015T201429Z
BEGIN:VTIMEZONE
TZID:Asia/Tokyo
X-MICROSOFT-CDO-TZID:20
BEGIN:STANDARD
DTSTART:20241119T050000
TZOFFSETFROM:+0900
TZOFFSETTO:+0900
TZNAME:JST
END:STANDARD
END:VTIMEZONE
BEGIN:VEVENT
UID:9b614831-e8ad-47fe-9cde-059218dd6522
DTSTAMP:20251015T201429Z
SUMMARY:WAI Interest Group
DTSTART;TZID=Asia/Tokyo:20251114T140000
DTEND;TZID=Asia/Tokyo:20251114T160000
DESCRIPTION:https://www.w3.org/events/meetings/9b614831-e8ad-47fe-9cde-0592
 18dd6522/\n\n
STATUS:CANCELLED
CREATED:20250716T142324Z
LAST-MODIFIED:20251015T201429Z
SEQUENCE:5
ORGANIZER;CN=W3C Calendar;PARTSTAT=ACCEPTED;ROLE=NON-PARTICIPANT:mailto:nor
 eply@w3.org
ATTENDEE;CUTYPE=GROUP;ROLE=OPT-PARTICIPANT;RSVP=FALSE;CN=WAI Interest Group
 :mailto:w3c-wai-ig@w3.org
LOCATION:R06
CATEGORIES:TPAC 2025,Group Meetings
END:VEVENT
END:VCALENDAR
