BEGIN:VCALENDAR
VERSION:2.0
PRODID:-//Sabre//Sabre VObject 4.5.8//EN
CALSCALE:GREGORIAN
LAST-MODIFIED:20260406T124700Z
BEGIN:VTIMEZONE
TZID:Etc/UTC
BEGIN:STANDARD
DTSTART:20250413T093000
TZOFFSETFROM:+0000
TZOFFSETTO:+0000
TZNAME:UTC
END:STANDARD
END:VTIMEZONE
BEGIN:VEVENT
UID:9ac7d0ce-6758-4d9e-8f18-aadbc8733161
DTSTAMP:20260406T124700Z
SUMMARY:SHACL Rules Task Force
DTSTART;TZID=Etc/UTC:20260408T093000
DTEND;TZID=Etc/UTC:20260408T103000
DESCRIPTION:https://www.w3.org/events/meetings/9ac7d0ce-6758-4d9e-8f18-aadb
 c8733161/20260408T093000/\n\n\n\nAgenda\n\n1. Scribe?\n1. [Open rules PRs]
 (https://github.com/w3c/data-shapes/pulls?q=is%3Apr+is%3Aopen+label%3Arule
 s)\n1. [Run once rules](https://github.com/w3c/data-shapes/issues/829)\n1.
  Backwards chaining
STATUS:CONFIRMED
CREATED:20260406T124700Z
LAST-MODIFIED:20260406T124700Z
SEQUENCE:8
ORGANIZER;CN=W3C Calendar;PARTSTAT=ACCEPTED;ROLE=NON-PARTICIPANT:mailto:nor
 eply@w3.org
ATTENDEE;CUTYPE=GROUP;ROLE=OPT-PARTICIPANT;RSVP=FALSE;CN=Data Shapes Workin
 g Group:mailto:public-shacl@w3.org
ATTENDEE;CUTYPE=GROUP;ROLE=OPT-PARTICIPANT;RSVP=FALSE;CN=SHACL Inference Ru
 les:mailto:noreply@w3.org
RECURRENCE-ID;TZID=Etc/UTC:20260408T093000
END:VEVENT
END:VCALENDAR
