BEGIN:VCALENDAR
VERSION:2.0
PRODID:-//Sabre//Sabre VObject 4.5.8//EN
CALSCALE:GREGORIAN
LAST-MODIFIED:20240909T132426Z
BEGIN:VTIMEZONE
TZID:America/New_York
X-MICROSOFT-CDO-TZID:10
BEGIN:STANDARD
DTSTART:20231105T060000
TZOFFSETFROM:-0400
TZOFFSETTO:-0500
TZNAME:EST
END:STANDARD
BEGIN:STANDARD
DTSTART:20241103T060000
TZOFFSETFROM:-0400
TZOFFSETTO:-0500
TZNAME:EST
END:STANDARD
BEGIN:DAYLIGHT
DTSTART:20240310T070000
TZOFFSETFROM:-0500
TZOFFSETTO:-0400
TZNAME:EDT
END:DAYLIGHT
END:VTIMEZONE
BEGIN:VEVENT
UID:9ac45636-0889-493e-b7ff-b5cb61b6c4da
DTSTAMP:20240909T132426Z
SUMMARY:WoT/ETSI Joint Call
DTSTART;TZID=America/New_York:20240913T093000
DTEND;TZID=America/New_York:20240913T103000
DESCRIPTION:https://www.w3.org/events/meetings/9ac45636-0889-493e-b7ff-b5cb
 61b6c4da/\n\nMeet with ETSI ISG CIM to discuss coordination of ETSI standa
 rds and adopters\, including NGSI-LD and FiWare\, with WoT.
STATUS:CONFIRMED
CREATED:20240909T132331Z
LAST-MODIFIED:20240909T132426Z
SEQUENCE:1
ORGANIZER;CN=W3C Calendar;PARTSTAT=ACCEPTED;ROLE=NON-PARTICIPANT:mailto:nor
 eply@w3.org
ATTENDEE;CUTYPE=GROUP;ROLE=OPT-PARTICIPANT;RSVP=FALSE;CN=Web of Things Inte
 rest Group:mailto:public-wot-ig@w3.org
ATTENDEE;CUTYPE=GROUP;ROLE=OPT-PARTICIPANT;RSVP=FALSE;CN=Web of Things Work
 ing Group:mailto:public-wot-wg@w3.org
LOCATION:Zoom
END:VEVENT
END:VCALENDAR
