BEGIN:VCALENDAR
VERSION:2.0
PRODID:-//Sabre//Sabre VObject 4.5.8//EN
CALSCALE:GREGORIAN
LAST-MODIFIED:20251203T172739Z
BEGIN:VTIMEZONE
TZID:Europe/London
X-MICROSOFT-CDO-TZID:1
BEGIN:DAYLIGHT
DTSTART:20250330T010000
TZOFFSETFROM:+0000
TZOFFSETTO:+0100
TZNAME:BST
END:DAYLIGHT
BEGIN:DAYLIGHT
DTSTART:20260329T010000
TZOFFSETFROM:+0000
TZOFFSETTO:+0100
TZNAME:BST
END:DAYLIGHT
BEGIN:STANDARD
DTSTART:20251026T010000
TZOFFSETFROM:+0100
TZOFFSETTO:+0000
TZNAME:GMT
END:STANDARD
END:VTIMEZONE
BEGIN:VEVENT
UID:9a035205-80b5-4a83-87fd-4d369e6175eb
DTSTAMP:20251203T172739Z
SUMMARY:W3C Media & Entertainment IG meeting
DTSTART;TZID=Europe/London:20251216T160000
DTEND;TZID=Europe/London:20251216T170000
DESCRIPTION:https://www.w3.org/events/meetings/9a035205-80b5-4a83-87fd-4d36
 9e6175eb/20251202T150000/\n\nUpdate: Meeting confirmed for 16:00 UTC on Tu
 esday 16 December. \n\nJoint meeting with CTA WAVE and SVTA on Encrypted M
 edia Extensions interoperability testing.\n\nCTA WAVE is looking to extend
  the coverage of EME testing to include \ncontent protected by commercial 
 DRM systems such as Fairplay\, PlayReady \nand Widevine. CTA WAVE seeks in
 put on people's experiences with the EME \nAPI to help guide this work. CT
 A WAVE is also looking for partners to help financially support the develo
 pment.\n\nIn this meeting\, Thomas Stockhammer will present and discuss CT
 A WAVE's plans.\n\nFor more context please see the CTA WAVE liaison at htt
 ps://lists.w3.org/Archives/Public/public-media-wg/2025Jun/0005.html
STATUS:CONFIRMED
CREATED:20251202T024757Z
LAST-MODIFIED:20251203T172739Z
SEQUENCE:6
ORGANIZER;CN=W3C Calendar;PARTSTAT=ACCEPTED;ROLE=NON-PARTICIPANT:mailto:nor
 eply@w3.org
ATTENDEE;CUTYPE=GROUP;ROLE=OPT-PARTICIPANT;RSVP=FALSE;CN=Media and Entertai
 nment Interest Group:mailto:public-web-and-tv@w3.org
RECURRENCE-ID;TZID=Europe/London:20251202T150000
END:VEVENT
END:VCALENDAR
