BEGIN:VCALENDAR
VERSION:2.0
PRODID:-//Sabre//Sabre VObject 4.5.8//EN
CALSCALE:GREGORIAN
LAST-MODIFIED:20220104T072752Z
BEGIN:VTIMEZONE
TZID:Etc/UTC
BEGIN:STANDARD
DTSTART:20201019T150000
TZOFFSETFROM:+0000
TZOFFSETTO:+0000
TZNAME:UTC
END:STANDARD
END:VTIMEZONE
BEGIN:VEVENT
UID:97e39a52-fbc1-4a15-9bff-0020eec5a49c
DTSTAMP:20220104T072752Z
SUMMARY:WebRTC WG October 2021 call
DTSTART;TZID=Etc/UTC:20211014T150000
DTEND;TZID=Etc/UTC:20211014T170000
DESCRIPTION:https://www.w3.org/events/meetings/97e39a52-fbc1-4a15-9bff-0020
 eec5a49c/\n\n\n\nAgenda: https://www.w3.org/2011/04/webrtc/wiki/October_14
 _2021
STATUS:CONFIRMED
CREATED:20210929T091116Z
LAST-MODIFIED:20220104T072752Z
SEQUENCE:1
ORGANIZER;CN=W3C Calendar;PARTSTAT=ACCEPTED;ROLE=NON-PARTICIPANT:mailto:nor
 eply@w3.org
ATTENDEE;CUTYPE=GROUP;ROLE=OPT-PARTICIPANT;RSVP=FALSE;CN=Web Real-Time Comm
 unications Working Group:mailto:public-webrtc@w3.org
END:VEVENT
END:VCALENDAR
