BEGIN:VCALENDAR
VERSION:2.0
PRODID:-//Sabre//Sabre VObject 4.5.8//EN
CALSCALE:GREGORIAN
LAST-MODIFIED:20250903T150553Z
BEGIN:VTIMEZONE
TZID:America/New_York
X-MICROSOFT-CDO-TZID:10
BEGIN:STANDARD
DTSTART:20241103T060000
TZOFFSETFROM:-0400
TZOFFSETTO:-0500
TZNAME:EST
END:STANDARD
BEGIN:STANDARD
DTSTART:20251102T060000
TZOFFSETFROM:-0400
TZOFFSETTO:-0500
TZNAME:EST
END:STANDARD
BEGIN:DAYLIGHT
DTSTART:20250309T070000
TZOFFSETFROM:-0500
TZOFFSETTO:-0400
TZNAME:EDT
END:DAYLIGHT
END:VTIMEZONE
BEGIN:VEVENT
UID:977dfb97-bc7b-4aea-a13b-aa4a9a757398
DTSTAMP:20250903T150553Z
SUMMARY:MATF weekly meeting
DTSTART;TZID=America/New_York:20250903T090000
DTEND;TZID=America/New_York:20250903T100000
DESCRIPTION:https://www.w3.org/events/meetings/977dfb97-bc7b-4aea-a13b-aa4a
 9a757398/20250903T090000/\n\n\n\nAgenda\n\n- Project planning update\n- [P
 age definition applied](https://github.com/w3c/matf/pull/263)\n- [Set of W
 eb pages definition](https://github.com/w3c/matf/issues/11)\n- [Change of 
 Context definition](https://github.com/w3c/matf/issues/69)\n- [Not modifie
 d by the author & provided by the user agent or platform software](https:/
 /github.com/w3c/matf/issues/80)
STATUS:CONFIRMED
CREATED:20250826T150143Z
LAST-MODIFIED:20250903T150553Z
SEQUENCE:5
ORGANIZER;CN=W3C Calendar;PARTSTAT=ACCEPTED;ROLE=NON-PARTICIPANT:mailto:nor
 eply@w3.org
ATTENDEE;CUTYPE=GROUP;ROLE=OPT-PARTICIPANT;RSVP=FALSE;CN=Mobile Accessibili
 ty Task Force:mailto:public-mobile-a11y-tf@w3.org
LOCATION:Zoom - see below
RECURRENCE-ID;TZID=America/New_York:20250903T090000
END:VEVENT
END:VCALENDAR
