BEGIN:VCALENDAR
VERSION:2.0
PRODID:-//Sabre//Sabre VObject 4.5.8//EN
CALSCALE:GREGORIAN
LAST-MODIFIED:20241009T140201Z
BEGIN:VTIMEZONE
TZID:America/New_York
X-MICROSOFT-CDO-TZID:10
BEGIN:STANDARD
DTSTART:20231105T060000
TZOFFSETFROM:-0400
TZOFFSETTO:-0500
TZNAME:EST
END:STANDARD
BEGIN:STANDARD
DTSTART:20241103T060000
TZOFFSETFROM:-0400
TZOFFSETTO:-0500
TZNAME:EST
END:STANDARD
BEGIN:DAYLIGHT
DTSTART:20240310T070000
TZOFFSETFROM:-0500
TZOFFSETTO:-0400
TZNAME:EDT
END:DAYLIGHT
END:VTIMEZONE
BEGIN:VEVENT
UID:977dfb97-bc7b-4aea-a13b-aa4a9a757398
DTSTAMP:20241009T140201Z
SUMMARY:MATF weekly meeting
DTSTART;TZID=America/New_York:20241009T090000
DTEND;TZID=America/New_York:20241009T100000
DESCRIPTION:https://www.w3.org/events/meetings/977dfb97-bc7b-4aea-a13b-aa4a
 9a757398/20241009T090000/\n\n\n\nAgenda\n\n- [2.5.8 Target Size (Minimum)]
 (https://github.com/w3c/matf/issues/10)\n- [3.2.1 On Focus](https://github
 .com/w3c/matf/issues/41)\n- [3.2.2 On Input](https://github.com/w3c/matf/i
 ssues/42)
STATUS:CONFIRMED
CREATED:20241002T141148Z
LAST-MODIFIED:20241009T140201Z
SEQUENCE:5
ORGANIZER;CN=W3C Calendar;PARTSTAT=ACCEPTED;ROLE=NON-PARTICIPANT:mailto:nor
 eply@w3.org
ATTENDEE;CUTYPE=GROUP;ROLE=OPT-PARTICIPANT;RSVP=FALSE;CN=Mobile Accessibili
 ty Task Force:mailto:public-mobile-a11y-tf@w3.org
LOCATION:Zoom - see below
RECURRENCE-ID;TZID=America/New_York:20241009T090000
END:VEVENT
END:VCALENDAR
