BEGIN:VCALENDAR
VERSION:2.0
PRODID:-//Sabre//Sabre VObject 4.5.8//EN
CALSCALE:GREGORIAN
LAST-MODIFIED:20240918T140242Z
BEGIN:VTIMEZONE
TZID:America/New_York
X-MICROSOFT-CDO-TZID:10
BEGIN:STANDARD
DTSTART:20231105T060000
TZOFFSETFROM:-0400
TZOFFSETTO:-0500
TZNAME:EST
END:STANDARD
BEGIN:STANDARD
DTSTART:20241103T060000
TZOFFSETFROM:-0400
TZOFFSETTO:-0500
TZNAME:EST
END:STANDARD
BEGIN:DAYLIGHT
DTSTART:20240310T070000
TZOFFSETFROM:-0500
TZOFFSETTO:-0400
TZNAME:EDT
END:DAYLIGHT
END:VTIMEZONE
BEGIN:VEVENT
UID:977dfb97-bc7b-4aea-a13b-aa4a9a757398
DTSTAMP:20240918T140242Z
SUMMARY:MATF weekly meeting
DTSTART;TZID=America/New_York:20240918T090000
DTEND;TZID=America/New_York:20240918T100000
DESCRIPTION:https://www.w3.org/events/meetings/977dfb97-bc7b-4aea-a13b-aa4a
 9a757398/20240918T090000/\n\n\n\nAgenda\n\n* [2.5.4 - Motion Actuation](ht
 tps://github.com/w3c/matf/issues/40)\n* Review 2nd round of voting on SCs 
 that required little or no modification from WCAG2ICT\n   * [Success Crite
 rion 2.5.3 - Label in Name - Level A](https://github.com/w3c/matf/issues/3
 9#issuecomment-2342492313)\n   * [Success Criterion 2.5.4 - Motion Actuati
 on - Level A](https://github.com/w3c/matf/issues/40#issuecomment-234249139
 6)\n   * [Success Criterion 3.3.1 - Error Identification - Level A](https:
 //github.com/w3c/matf/issues/44#issuecomment-2342490649)\n   * [Success Cr
 iterion 3.3.3 - Error Suggestion - Level AA](https://github.com/w3c/matf/i
 ssues/57#issuecomment-2342489090)\n   * [Success Criterion 3.3.4 - Error P
 revention (Legal\, Financial\, Data) - Level AA]()\n   * [Success Criterio
 n 3.3.7 - Redundant Entry - Level A](https://github.com/w3c/matf/issues/46
 #issuecomment-2342512758)\n   * [Success Criterion 3.3.8 - Accessible Auth
 entication (Minimum) - Level AA](https://github.com/w3c/matf/issues/60#iss
 uecomment-2342512117)\n* [2.4.11 - Focus Not Obscured (Minimum)](https://g
 ithub.com/w3c/matf/issues/52)
STATUS:CONFIRMED
CREATED:20240821T144539Z
LAST-MODIFIED:20240918T140242Z
SEQUENCE:5
ORGANIZER;CN=W3C Calendar;PARTSTAT=ACCEPTED;ROLE=NON-PARTICIPANT:mailto:nor
 eply@w3.org
ATTENDEE;CUTYPE=GROUP;ROLE=OPT-PARTICIPANT;RSVP=FALSE;CN=Mobile Accessibili
 ty Task Force:mailto:public-mobile-a11y-tf@w3.org
LOCATION:Zoom - see below
RECURRENCE-ID;TZID=America/New_York:20240918T090000
END:VEVENT
END:VCALENDAR
