BEGIN:VCALENDAR
VERSION:2.0
PRODID:-//Sabre//Sabre VObject 4.5.8//EN
CALSCALE:GREGORIAN
LAST-MODIFIED:20220914T180957Z
BEGIN:VTIMEZONE
TZID:America/Vancouver
BEGIN:STANDARD
DTSTART:20211107T090000
TZOFFSETFROM:-0700
TZOFFSETTO:-0800
TZNAME:PST
END:STANDARD
BEGIN:STANDARD
DTSTART:20221106T090000
TZOFFSETFROM:-0700
TZOFFSETTO:-0800
TZNAME:PST
END:STANDARD
BEGIN:DAYLIGHT
DTSTART:20220313T100000
TZOFFSETFROM:-0800
TZOFFSETTO:-0700
TZNAME:PDT
END:DAYLIGHT
END:VTIMEZONE
BEGIN:VEVENT
UID:96948fa8-77ca-4f54-b0ba-99e04066ac8e
DTSTAMP:20220914T180957Z
SUMMARY:Web Monetization
DTSTART;TZID=America/Vancouver:20220914T111500
DTEND;TZID=America/Vancouver:20220914T121500
DESCRIPTION:https://www.w3.org/events/meetings/96948fa8-77ca-4f54-b0ba-99e0
 4066ac8e/\n\nVery short presentation of the changes to the Web Monetizatio
 n community specification draft and gather feedback.\n\nAgenda\n\n**Facili
 tators & speakers**: Alex Lakatos\n\n**Session type**: Short Presentation 
 and Open Discussion \n\n**Summary**: Very short presentation of the change
 s to the Web Monetization community specification draft and gather feedbac
 k.\n\n**Goals**:\n- Consulting W3C Members & gathering feedback for the ne
 w spec.\n\nJoining Instructions: https://us02web.zoom.us/j/5896324424?pwd=
 SlI4YnpzY2tENG1MRVFjbHY0RzlFUT09\n\nChat\n\nhttps://irc.w3.org/?channels=%
 23web-monetization
STATUS:CONFIRMED
CREATED:20220909T111715Z
LAST-MODIFIED:20220914T180957Z
SEQUENCE:1
ORGANIZER;CN=W3C Calendar;PARTSTAT=ACCEPTED;ROLE=NON-PARTICIPANT:mailto:nor
 eply@w3.org
ATTENDEE;CN=Martin Alvarez-Espinar:mailto:martin.alvarez.espinar1@huawei.co
 m
ATTENDEE;CN=David Benoit:mailto:benoit@xdal.org
ATTENDEE;CN=christin cai:mailto:christincai@tencent.com
ATTENDEE;CN=Hong Cai:mailto:hong.cai@bbc.com
ATTENDEE;CN=Gabe Cohen:mailto:gabe.l.cohen@gmail.com
ATTENDEE;CN=Nick Doty:mailto:ndoty@cdt.org
ATTENDEE;CN=Rob Eisenberg:mailto:rob@bluespire.com
ATTENDEE;CN=Jeff Jaffe:mailto:jaffe02445@gmail.com
ATTENDEE;CN=Brian May:mailto:imbmaydst@gmail.com
ATTENDEE;CN=Michael McCool:mailto:michael.d.mccool@gmail.com
ATTENDEE;CN=Coralie Mercier:mailto:coralie@w3.org
ATTENDEE;CN=Gerald Oskoboiny:mailto:gerald@w3.org
ATTENDEE;CN=Takuya Sakamoto:mailto:takuya@jp.fujitsu.com
ATTENDEE;CN=David Singer:mailto:singer@mac.com
ATTENDEE;CN=Russell Stringham:mailto:rstringh@adobe.com
ATTENDEE;CN=Cornelius Witt:mailto:c.witt@eyeo.com
LOCATION:Granville — South Tower 4th floor
CATEGORIES:TPAC 2022,Breakout Sessions
END:VEVENT
END:VCALENDAR
