BEGIN:VCALENDAR
VERSION:2.0
PRODID:-//Sabre//Sabre VObject 4.5.8//EN
CALSCALE:GREGORIAN
LAST-MODIFIED:20260219T062121Z
BEGIN:VTIMEZONE
TZID:Asia/Tokyo
X-MICROSOFT-CDO-TZID:20
BEGIN:STANDARD
DTSTART:20241117T054500
TZOFFSETFROM:+0900
TZOFFSETTO:+0900
TZNAME:JST
END:STANDARD
END:VTIMEZONE
BEGIN:VEVENT
UID:95dfd03b-88fc-4e5d-9afa-24ec28ba02cd
DTSTAMP:20260219T062121Z
SUMMARY:Originator Profile Overview and further discussions
DTSTART;TZID=Asia/Tokyo:20251112T144500
DTEND;TZID=Asia/Tokyo:20251112T154500
DESCRIPTION:https://www.w3.org/events/meetings/95dfd03b-88fc-4e5d-9afa-24ec
 28ba02cd/\n\nOriginator Profile (OP) has published its technical specifica
 tions\, architecture overview\, and Originator Profile Blueprints series d
 ocuments. Join us to see how the current version works and discuss how we 
 manage and operate this framework to combat the flood of malicious informa
 tion on the internet. Please come and provide feedback or discuss with us.
 \nWe would also like to introduce the progress of implementing the framewo
 rk to the Japanese media industry and local governments.\n\n**Goal(s):**\n
 Provides an overview of the Originator Profile framework and gets feedback
  from the community.\n\nAgenda\n\n1. Originator Profile overview\n2. OP do
 cuments + α\n  - Specifications: Architectural Overview\, OP blueprints (
 GitHub access now available)\n  - PoC Code via GitHub\n  - CA Server for e
 xperimental use\n3. OP’s latest progress\n  - Heated discussion over inf
 ormation uncertainty\n  - PoC – Implement OP to content management syste
 ms of news media\n  - PoC – Confirm that ad creatives with OP can be dis
 tributed in actual advertising auction systems.\n  - Implement on Tottori 
 local government’s website\n4. Next step\n5. Q & A\n\n[Originator Profil
 e Overview and further discussions_GH (2).pdf](https://github.com/user-att
 achments/files/23492500/Originator.Profile.Overview.and.further.discussion
 s_GH.2.pdf)\n\n**Materials:**\n- [recording](https://www.w3.org/2025/11/br
 eakouts/recording-31.html)\n- [Session proposal on GitHub](https://github.
 com/w3c/tpac2025-breakouts/issues/31)
STATUS:CONFIRMED
CREATED:20251028T073736Z
LAST-MODIFIED:20260219T062121Z
SEQUENCE:3
ORGANIZER;CN=W3C Calendar;PARTSTAT=ACCEPTED;ROLE=NON-PARTICIPANT:mailto:nor
 eply@w3.org
LOCATION:Floor 4 - 405
CATEGORIES:TPAC 2025,Breakout Sessions
END:VEVENT
END:VCALENDAR
