BEGIN:VCALENDAR
VERSION:2.0
PRODID:-//Sabre//Sabre VObject 4.5.8//EN
CALSCALE:GREGORIAN
LAST-MODIFIED:20251111T005311Z
BEGIN:VTIMEZONE
TZID:Asia/Tokyo
X-MICROSOFT-CDO-TZID:20
BEGIN:STANDARD
DTSTART:20241116T004500
TZOFFSETFROM:+0900
TZOFFSETTO:+0900
TZNAME:JST
END:STANDARD
END:VTIMEZONE
BEGIN:VEVENT
UID:95b183fd-41bb-4f92-b013-b69121090498
DTSTAMP:20251111T005311Z
SUMMARY:RDF & SPARQL Working Group
DTSTART;TZID=Asia/Tokyo:20251111T094500
DTEND;TZID=Asia/Tokyo:20251111T130000
DESCRIPTION:https://www.w3.org/events/meetings/95b183fd-41bb-4f92-b013-b691
 21090498/\n\n
STATUS:CONFIRMED
CREATED:20250716T142741Z
LAST-MODIFIED:20251111T005311Z
SEQUENCE:7
ORGANIZER;CN=W3C Calendar;PARTSTAT=ACCEPTED;ROLE=NON-PARTICIPANT:mailto:nor
 eply@w3.org
ATTENDEE;CUTYPE=GROUP;ROLE=OPT-PARTICIPANT;RSVP=FALSE;CN=RDF & SPARQL Worki
 ng Group:mailto:public-rdf-star-wg@w3.org
LOCATION:Floor 4 - 404
CATEGORIES:TPAC 2025,Group Meetings
END:VEVENT
END:VCALENDAR
