BEGIN:VCALENDAR
VERSION:2.0
PRODID:-//Sabre//Sabre VObject 4.5.8//EN
CALSCALE:GREGORIAN
LAST-MODIFIED:20210519T144951Z
BEGIN:VTIMEZONE
TZID:America/Toronto
BEGIN:STANDARD
DTSTART:20201101T060000
TZOFFSETFROM:-0400
TZOFFSETTO:-0500
TZNAME:EST
END:STANDARD
BEGIN:STANDARD
DTSTART:20211107T060000
TZOFFSETFROM:-0400
TZOFFSETTO:-0500
TZNAME:EST
END:STANDARD
BEGIN:DAYLIGHT
DTSTART:20210314T070000
TZOFFSETFROM:-0500
TZOFFSETTO:-0400
TZNAME:EDT
END:DAYLIGHT
END:VTIMEZONE
BEGIN:VEVENT
UID:95520d69-6afb-48c3-a8d9-7e6dfa37a623
DTSTAMP:20210519T144951Z
SUMMARY:Fixed Layout Accessibility TF
DTSTART;TZID=America/Toronto:20210525T090000
DTEND;TZID=America/Toronto:20210525T100000
DESCRIPTION:https://www.w3.org/events/meetings/95520d69-6afb-48c3-a8d9-7e6d
 fa37a623/20210525T090000/\n\nThis task force meets biweekly to discuss bes
 t practices and issues relating to fixed layout format accessibility in EP
 UB 3.3.
STATUS:CONFIRMED
CREATED:20210519T144936Z
LAST-MODIFIED:20210519T144951Z
SEQUENCE:1
ORGANIZER;CN=W3C Calendar;PARTSTAT=ACCEPTED;ROLE=NON-PARTICIPANT:mailto:nor
 eply@w3.org
ATTENDEE;CUTYPE=GROUP;ROLE=OPT-PARTICIPANT;RSVP=FALSE;CN=EPUB 3 Working Gro
 up:mailto:public-epub-wg@w3.org
LOCATION:Virtual
RECURRENCE-ID;TZID=America/Toronto:20210525T090000
END:VEVENT
END:VCALENDAR
