BEGIN:VCALENDAR
VERSION:2.0
PRODID:-//Sabre//Sabre VObject 4.5.8//EN
CALSCALE:GREGORIAN
LAST-MODIFIED:20251215T153027Z
BEGIN:VTIMEZONE
TZID:Europe/London
X-MICROSOFT-CDO-TZID:1
BEGIN:DAYLIGHT
DTSTART:20250330T010000
TZOFFSETFROM:+0000
TZOFFSETTO:+0100
TZNAME:BST
END:DAYLIGHT
BEGIN:DAYLIGHT
DTSTART:20260329T010000
TZOFFSETFROM:+0000
TZOFFSETTO:+0100
TZNAME:BST
END:DAYLIGHT
BEGIN:STANDARD
DTSTART:20251026T010000
TZOFFSETFROM:+0100
TZOFFSETTO:+0000
TZNAME:GMT
END:STANDARD
END:VTIMEZONE
BEGIN:VEVENT
UID:9449974b-72da-42a3-988a-1ccae4c25616
DTSTAMP:20251215T153027Z
SUMMARY:Internationalization (I18N) Working Group Teleconference
DTSTART;TZID=Europe/London:20251218T150000
DTEND;TZID=Europe/London:20251218T160000
DESCRIPTION:https://www.w3.org/events/meetings/9449974b-72da-42a3-988a-1cca
 e4c25616/20251218T150000/\n\n***NOTE WELL*** This meeting is scheduled in 
 the `Europe/London` time zone. \n\nThat time zone observes Daylight Saving
 s/Summer Time. Your local time for this call may vary due to differences i
 n your local time zone's observation of DST/ST from that of the UK.\n\n###
  Agenda Items of Note This Week\n\nReminder: The next two meetings are can
 celed for the holidays. Our next meeting will be on January 8 at the usual
  time.\n\nAgenda\n\n### BE PREPARED \nThings to do before the meeting:\n\n
 ---\n\n### Topic: Agenda Review\n\n### Topic: Action Items\n_Review of ope
 n action items from previous meetings_\n* [I18N-ACTIONS](https://github.co
 m/w3c/i18n-actions/issues)\n\n### Topic: Info Share\n_Share information of
  interest to the working group or pertaining to internationalization in ge
 neral._\n\n### Topic: Review RADAR Review\n_Time to review new and on-goin
 g requests for specification review. Incoming requests are assigned to she
 pherds in this part of the call._\n_In addition\, we review the status of 
 specifications that have received comments. *Please review your issues and
  owned items in advance of the call*_\n* [RADAR](https://github.com/orgs/w
 3c/projects/91/views/1)\n\n### Topic: Pending Issue Review\n_Review of new
  and pending issues raised by working group members or via the various bot
 s._\n* [Pending Issues](https://github.com/w3c/i18n-activity/issues?q=is%3
 Aissue+is%3Aopen+label%3Apending)\n\n\n\n---\n\n### Topic: \n\n---\n\n### 
 Topic: AOB?\n\n#### REMINDER \nGetting too many of these notifications? Re
 ad [this](https://lists.w3.org/Archives/Member/member-i18n-core/2022Mar/00
 13.html) email from Richard on how to manage notifications.\n\n\n#### SCRI
 BE \nIf you are set to scribe and cannot make it\, please send regrets to 
 the chair. Volunteers to act as scribe cheerfully accepted.\n\n* Bert Bos\
 n* Fuqiao Xue\n* Atsushi Shimono\n\n#### Chair's Link Farm\n[Actions](http
 s://github.com/w3c/i18n-actions/issues)\n[RADAR](https://github.com/orgs/w
 3c/projects/91/views/1)\n[pending issues](https://github.com/w3c/i18n-acti
 vity/issues?q=is%3Aissue+is%3Aopen+label%3Apending)\n[`close?` issues](htt
 ps://github.com/w3c/i18n-activity/issues?q=is%3Aissue%20is%3Aopen%20label%
 3Aclose%3F)\n[Public list](https://lists.w3.org/Archives/Public/public-i18
 n-core/)\n[Member list](https://lists.w3.org/Archives/Member/member-i18n-c
 ore/)\n[Chair dashboard](https://www.w3.org/PM/Groups/chairboard.html?gid=
 wg/i18n-core)\n\n***WHAT IS THIS?*** This is the regular weekly teleconfer
 ence of the W3C Internationalization Working Group.\n\n***AGENDA+*** If yo
 u would like the chair to consider adding an item to the agenda\, please s
 end email to the public-i18n-core@ mailing list with a subject line starti
 ng `agenda+`. Here is an [example](https://lists.w3.org/Archives/Public/pu
 blic-i18n-core/2023OctDec/0007.html).
STATUS:CONFIRMED
CREATED:20251211T232550Z
LAST-MODIFIED:20251215T153027Z
SEQUENCE:2
ORGANIZER;CN=W3C Calendar;PARTSTAT=ACCEPTED;ROLE=NON-PARTICIPANT:mailto:nor
 eply@w3.org
ATTENDEE;CUTYPE=GROUP;ROLE=OPT-PARTICIPANT;RSVP=FALSE;CN=Internationalizati
 on Working Group:mailto:public-i18n-core@w3.org
RECURRENCE-ID;TZID=Europe/London:20251218T150000
END:VEVENT
END:VCALENDAR
