BEGIN:VCALENDAR
VERSION:2.0
PRODID:-//Sabre//Sabre VObject 4.5.8//EN
CALSCALE:GREGORIAN
LAST-MODIFIED:20251010T073413Z
BEGIN:VTIMEZONE
TZID:Europe/Brussels
BEGIN:STANDARD
DTSTART:20241027T010000
TZOFFSETFROM:+0200
TZOFFSETTO:+0100
TZNAME:CET
END:STANDARD
BEGIN:STANDARD
DTSTART:20251026T010000
TZOFFSETFROM:+0200
TZOFFSETTO:+0100
TZNAME:CET
END:STANDARD
BEGIN:DAYLIGHT
DTSTART:20250330T010000
TZOFFSETFROM:+0100
TZOFFSETTO:+0200
TZNAME:CEST
END:DAYLIGHT
END:VTIMEZONE
BEGIN:VEVENT
UID:943ee7a9-2f3b-4ca9-afd7-32d966e5567e
DTSTAMP:20251010T073413Z
SUMMARY:LWS WG Face-to-Face Meeting (Day 2)
DTSTART;TZID=Europe/Brussels:20251009T093000
DTEND;TZID=Europe/Brussels:20251009T170000
DESCRIPTION:https://www.w3.org/events/meetings/943ee7a9-2f3b-4ca9-afd7-32d9
 66e5567e/\n\n### Morning session (9:30am - 1pm)\n**Meeting room:** 21.03 J
 an Hyoens (21st floor)\n\n### Afternoon session (1pm - 5pm)\n**Meeting roo
 m:** 21.01 Jan Frans Willems (21st floor)\n\nAgenda\n\n9:30 - Authorizatio
 n in LWS\nIn this session we want to discuss the scope and a prioritizatio
 n of requirements for the authorization capability of the LWS protocol. Im
 portantly we should try and understand the existing authorization landscap
 e and its limitations. Based on the requirements and prioritization thereo
 f we can determine an initial scope of authorization for LWS.\n\n10:45 - C
 offee break\n\n11:00 - Authorization in LWS (continued)\nContinuation of t
 he 9:30 am session.\n\n12:30 - Lunch break\nLunch options are available on
  the 3rd floor of the building\, or near Gent-Sint-Pieter’s station.\n\n
 13:30 - Authentication protocol integration\n\n15:00 - Authentication prot
 ocol integration (continued)\n\n16:00 - Buffer\nThis slot is a buffer for 
 any topics that may pop up in other sessions\, and which require additiona
 l discussion.\n\n17:00 - End of day 2
STATUS:CONFIRMED
CREATED:20250912T153007Z
LAST-MODIFIED:20251010T073413Z
SEQUENCE:1
ORGANIZER;CN=W3C Calendar;PARTSTAT=ACCEPTED;ROLE=NON-PARTICIPANT:mailto:nor
 eply@w3.org
ATTENDEE;CUTYPE=GROUP;ROLE=OPT-PARTICIPANT;RSVP=FALSE;CN=Linked Web Storage
  Working Group:mailto:public-lws-wg@w3.org
LOCATION:Virginie Lovelinggebouw\, Koningin Maria Hendrikaplein 70\, 9000 G
 hent\, Belgium
END:VEVENT
END:VCALENDAR
